BEGIN:VCALENDAR
VERSION:2.0
PRODID:-//Octubre Centre de Cultura Contemporània - ECPv5.1.6//NONSGML v1.0//EN
CALSCALE:GREGORIAN
METHOD:PUBLISH
X-WR-CALNAME:Octubre Centre de Cultura Contemporània
X-ORIGINAL-URL:https://octubre.cat
X-WR-CALDESC:Events for Octubre Centre de Cultura Contemporània
BEGIN:VTIMEZONE
TZID:Europe/Andorra
BEGIN:DAYLIGHT
TZOFFSETFROM:+0100
TZOFFSETTO:+0200
TZNAME:CEST
DTSTART:20090329T010000
END:DAYLIGHT
BEGIN:STANDARD
TZOFFSETFROM:+0200
TZOFFSETTO:+0100
TZNAME:CET
DTSTART:20091025T010000
END:STANDARD
END:VTIMEZONE
BEGIN:VEVENT
DTSTART;TZID=Europe/Andorra:20091023T200000
DTEND;TZID=Europe/Andorra:20091023T200000
DTSTAMP:20260420T192115
CREATED:20200729T182549Z
LAST-MODIFIED:20200729T182549Z
UID:12899-1256328000-1256328000@octubre.cat
SUMMARY:Senior i el Cor Brutal
DESCRIPTION:Divendres 23 d’octubre\, a les 20.00h: “Intercanvis”. Senior i el Cor Brutal.   \n  \n  \n\nMiguel Ángel Landete és Senior\, i Senior és un músic que va sempre acompanyat per El Cor Brutal. El seu primer disc\, L’experiència gratificant (2009)\, enregistrat a Montevideo i mesclat als Estats Units\, és tot un exemple de com barrejar arrels amb influències anglosaxones i crear un discurs propi. O com diu Landete\, “Wilco fan això que els crítics en diuen ‘americana’; jo faig ‘valenciana’”.   En “Intercanvis”\, Senior ofererià un particular repàs del rock i el folk valencians\, interpretant peces de procedència ben diversa.
URL:https://octubre.cat/activitat/senior-i-el-cor-brutal/
LOCATION:No definit
CATEGORIES:Cicle de música pop
ATTACH;FMTTYPE=image/jpeg:https://octubre.cat/www/wp-content/uploads/2020/07/activitat932.jpg
END:VEVENT
END:VCALENDAR