BEGIN:VCALENDAR
VERSION:2.0
PRODID:-//Octubre Centre de Cultura Contemporània - ECPv5.1.6//NONSGML v1.0//EN
CALSCALE:GREGORIAN
METHOD:PUBLISH
X-WR-CALNAME:Octubre Centre de Cultura Contemporània
X-ORIGINAL-URL:https://octubre.cat
X-WR-CALDESC:Events for Octubre Centre de Cultura Contemporània
BEGIN:VTIMEZONE
TZID:Europe/Andorra
BEGIN:DAYLIGHT
TZOFFSETFROM:+0100
TZOFFSETTO:+0200
TZNAME:CEST
DTSTART:20070325T010000
END:DAYLIGHT
BEGIN:STANDARD
TZOFFSETFROM:+0200
TZOFFSETTO:+0100
TZNAME:CET
DTSTART:20071028T010000
END:STANDARD
END:VTIMEZONE
BEGIN:VEVENT
DTSTART;TZID=Europe/Andorra:20071004T200000
DTEND;TZID=Europe/Andorra:20071004T200000
DTSTAMP:20260420T221310
CREATED:20200729T181515Z
LAST-MODIFIED:20200730T035449Z
UID:12362-1191528000-1191528000@octubre.cat
SUMMARY:Senior + El Cor Brutal
DESCRIPTION:El grup valencià actuarà aquesta vesprada a les 20 hores a l’Octubre.  \n  \n  \n\nVa començar formant part d’un grup i cantant en anglés\, però un dia va decidir pujar a l’escenari en solitari i usar la seua llengua. Des d’aleshores ha enregistrat varies maquetes i ha consolidat una banda anomenada El Cor Brutal\, composada per membres de grups valencians com Euro-Trash Girl i Polar. El rock alternatiu dels 90\, hereu del millor Neil Young\, és la seua màxima font d’inspiració.
URL:https://octubre.cat/activitat/senior-el-cor-brutal/
LOCATION:No definit
CATEGORIES:Cicle de música pop
ATTACH;FMTTYPE=image/jpeg:https://octubre.cat/www/wp-content/uploads/2020/07/musica1.jpg
END:VEVENT
END:VCALENDAR