BEGIN:VCALENDAR
VERSION:2.0
PRODID:-//Octubre Centre de Cultura Contemporània - ECPv5.1.6//NONSGML v1.0//EN
CALSCALE:GREGORIAN
METHOD:PUBLISH
X-WR-CALNAME:Octubre Centre de Cultura Contemporània
X-ORIGINAL-URL:https://octubre.cat
X-WR-CALDESC:Events for Octubre Centre de Cultura Contemporània
BEGIN:VTIMEZONE
TZID:Europe/Andorra
BEGIN:DAYLIGHT
TZOFFSETFROM:+0100
TZOFFSETTO:+0200
TZNAME:CEST
DTSTART:20140330T010000
END:DAYLIGHT
BEGIN:STANDARD
TZOFFSETFROM:+0200
TZOFFSETTO:+0100
TZNAME:CET
DTSTART:20141026T010000
END:STANDARD
END:VTIMEZONE
BEGIN:VEVENT
DTSTART;TZID=Europe/Andorra:20140403T190000
DTEND;TZID=Europe/Andorra:20140403T190000
DTSTAMP:20260421T024239
CREATED:20200729T170412Z
LAST-MODIFIED:20200729T184420Z
UID:9739-1396551600-1396551600@octubre.cat
SUMMARY:'Sempre maten les dones més boniques'\, per Manel Joan i Arinyó
DESCRIPTION:Dijous 3 d’abril a les 19.00h\, l’escriptor Manel Joan i Arinyó presenta quatre novel·les negres  \n  \n  \n\n L’escriptor Manel Joan i Arinyó presenta quatre novel·les negres.  Així com en la narrativa eròtica\, si hi apareix algun negre molt ben dotat i piuer\, acaba morint a mans de l’home blanc\, en la novel·la policíaca solen ser víctimes les dones més boniques.  Ara bé\, fixeu-vos en el títol i considereu-ne les dues lectures. El sintagma les dones més boniques pot ser complement directe\, i aleshores estaríem en el cas citat en el paràgraf precedent. Però també es pot interpretar com a subjecte\, és a dir\, són elles les assassines.  Fent un recorregut per les quatre novel·les negres d’Arinyó en trobarem de les dues menes: víctimes i executores. Com policies\, delinqüents\, bones\, dolentes\, llestes\, soques\, misterioses\, atractives\, lleials\, traïdores\, heterosexuals\, homosexuals\, bisexuals\, trisexuals…
URL:https://octubre.cat/activitat/sempre-maten-les-dones-mes-boniques-per-manel-joan-i-arinyo/
LOCATION:Llibreria 3i4
CATEGORIES:Literatura
ATTACH;FMTTYPE=image/png:https://octubre.cat/www/wp-content/uploads/2020/07/activitat2034.png
END:VEVENT
END:VCALENDAR