BEGIN:VCALENDAR
VERSION:2.0
PRODID:-//Octubre Centre de Cultura Contemporània - ECPv5.1.6//NONSGML v1.0//EN
CALSCALE:GREGORIAN
METHOD:PUBLISH
X-WR-CALNAME:Octubre Centre de Cultura Contemporània
X-ORIGINAL-URL:https://octubre.cat
X-WR-CALDESC:Events for Octubre Centre de Cultura Contemporània
BEGIN:VTIMEZONE
TZID:Europe/Andorra
BEGIN:DAYLIGHT
TZOFFSETFROM:+0100
TZOFFSETTO:+0200
TZNAME:CEST
DTSTART:20160327T010000
END:DAYLIGHT
BEGIN:STANDARD
TZOFFSETFROM:+0200
TZOFFSETTO:+0100
TZNAME:CET
DTSTART:20161030T010000
END:STANDARD
END:VTIMEZONE
BEGIN:VEVENT
DTSTART;TZID=Europe/Andorra:20161124T200000
DTEND;TZID=Europe/Andorra:20161124T200000
DTSTAMP:20260421T014645
CREATED:20200729T172224Z
LAST-MODIFIED:20200729T185652Z
UID:10907-1480017600-1480017600@octubre.cat
SUMMARY:'Sempre Al Tall'\, de Josep Pitarch
DESCRIPTION:Dijous 24 de novembre a les 20.00h. Projecció efectuada amb motiu de la inauguració de l’exposició “Al Tall: 35 anys de música mediterrània des del País Valencià”. Presentat pel director.  \n  \n  \n\n La projecció d’aquest documental s’efectua amb motiu de la inauguració de l’exposició Al Tall: 35 anys de música mediterrània des del País Valencià. Presentat pel director.  En el documental poden veure’s els últims assajos\, trobades\, concerts i homenatges al grup  Al Tall. Presenta de primera mà les reaccions i repercussions que va comportar l’anunci de la seua retirada i planteja el futur de la música valenciana després de la seua desaparició com a formació en actiu. Al mateix temps fa un recorregut per la seua llarga trajectòria\, des dels treballs inicials d’investigació\, quan anaven casa per casa recuperant cants populars valencians\, fins a la seua consagració com a referent musical i cultural. El documental reflecteix també el component reivindicatiu i polític del grup\, de tal manera que juntament amb la seua carrera musical «es fa un recorregut pels últims 40 anys d’història» valenciana. L’anunci de la seua dissolució el setembre de 2013 va commoure el panorama cultural valencià\, tenint en compte que després de vora 40 anys de carrera se n’anava un referent de la música folk valenciana i símbol de la reivindicació lingüística i cultural. Amb 16 discos i multitud d’actuacions en terres valencianes i de tot el món\, el propòsit del documental és posar de manifest que\, tot i el seu adéu\, l´esperit de la formació no desapareix.  Direcció: Josep Pitarch (2015) Producció: Taller d’Audiovisuals de la Universitat de València (TAU). Durada: 65’
URL:https://octubre.cat/activitat/sempre-al-tall-de-josep-pitarch/
CATEGORIES:Cinema
ATTACH;FMTTYPE=image/jpeg:https://octubre.cat/www/wp-content/uploads/2020/07/activitat2713.jpg
END:VEVENT
END:VCALENDAR