BEGIN:VCALENDAR
VERSION:2.0
PRODID:-//Octubre Centre de Cultura Contemporània - ECPv5.1.6//NONSGML v1.0//EN
CALSCALE:GREGORIAN
METHOD:PUBLISH
X-WR-CALNAME:Octubre Centre de Cultura Contemporània
X-ORIGINAL-URL:https://octubre.cat
X-WR-CALDESC:Events for Octubre Centre de Cultura Contemporània
BEGIN:VTIMEZONE
TZID:Europe/Andorra
BEGIN:DAYLIGHT
TZOFFSETFROM:+0100
TZOFFSETTO:+0200
TZNAME:CEST
DTSTART:20070325T010000
END:DAYLIGHT
BEGIN:STANDARD
TZOFFSETFROM:+0200
TZOFFSETTO:+0100
TZNAME:CET
DTSTART:20071028T010000
END:STANDARD
END:VTIMEZONE
BEGIN:VEVENT
DTSTART;TZID=Europe/Andorra:20071214T000000
DTEND;TZID=Europe/Andorra:20071215T000000
DTSTAMP:20260420T200203
CREATED:20200729T181622Z
LAST-MODIFIED:20251226T190928Z
UID:12428-1197590400-1197676800@octubre.cat
SUMMARY:Seminari 'Urbanisme\, societat i territori'
DESCRIPTION:Compromís pel territori organitza les jornades “Urbanisme\, societat i territori”. \nDivendres dia 14 \n1ª Sessió 19h: CONFLICTES DE L’ACTUAL MODEL URBANÍSTIC\nModera: Lluís Beltran (Compromís pel Territori)\nPonents: Estrella Blanes (Jutges per la Democràcia)\, Vicent Torres (Economista)\, Juan Ramón Peris\, (Unió de Llauradors) \n  \nDissabte dia 15 \n2ª Sessió. 10h: LES LLEIS I LA PROTECCIÓ DEL TERRITORI.\nModera: Paco Sanz (Compromís pel Territori)\nPonents: Carlos Arribas (Ecologistes en Acció)\, José Luis Ramos (Advocat) \n3ª Sessió. 12.00h:LA CIUTADANIA I ELS MOVIMENTS SOCIALS\nModera: Elvira Mondragón (Compromís pel Territori)\nPonents: Josep Vidal (Associació de Veïns Godella)\, Francesc Hernández (sociòleg)\, Rafa Xambó (Sociòleg) \n4ª Sessió. 16.30h: ASSEMBLEA DE COL·LECTIUS. BALANÇ I PERSPECTIVES DE TREBALL EN EL MOMENT ACTUAL DE COMPROMÍS PEL TERRITORI
URL:https://octubre.cat/activitat/seminari-urbanisme-societat-i-territori/
LOCATION:No definit
CATEGORIES:Conferències i congressos
ATTACH;FMTTYPE=image/jpeg:https://octubre.cat/www/wp-content/uploads/2020/07/conferencia1.jpg
END:VEVENT
END:VCALENDAR