BEGIN:VCALENDAR
VERSION:2.0
PRODID:-//Octubre Centre de Cultura Contemporània - ECPv5.1.6//NONSGML v1.0//EN
CALSCALE:GREGORIAN
METHOD:PUBLISH
X-WR-CALNAME:Octubre Centre de Cultura Contemporània
X-ORIGINAL-URL:https://octubre.cat
X-WR-CALDESC:Events for Octubre Centre de Cultura Contemporània
BEGIN:VTIMEZONE
TZID:Europe/Andorra
BEGIN:DAYLIGHT
TZOFFSETFROM:+0100
TZOFFSETTO:+0200
TZNAME:CEST
DTSTART:20190331T010000
END:DAYLIGHT
BEGIN:STANDARD
TZOFFSETFROM:+0200
TZOFFSETTO:+0100
TZNAME:CET
DTSTART:20191027T010000
END:STANDARD
END:VTIMEZONE
BEGIN:VEVENT
DTSTART;TZID=Europe/Andorra:20191015T190000
DTEND;TZID=Europe/Andorra:20191015T190000
DTSTAMP:20260425T175248
CREATED:20200729T173519Z
LAST-MODIFIED:20200729T191232Z
UID:11517-1571166000-1571166000@octubre.cat
SUMMARY:Selecció de curts de Dona i Cinema
DESCRIPTION:Dimarts 15 d’octubre a les 19.00h. Mostra Viva del Mediterrani.	 \n  \n  \n\n 	 Selecció de curts de vídeoart del festival internacional Dona i Cinema\, amb la presència d’algunes de les seues directores.  Moderen: Giovanna Ribes i Deborah Micheletti Durada aproximada 53 min  —Ovul\, de Danijela Radulovic\, 6’. Montenegro —The Dancer\, d’Anaïs Desmond\, 3’. França —Iter\, d’Úrsula San Cristóbal\, 9′. Espanya —Solitaire\, d’Anna Maria Staiano\, 4′. Itàlia —Punt i coma\, de Judit Carmona\, 6′ 30. Espanya —El dia de la verge\, de Louise Heem\, 0′ 41. França —She Made It\, de Lud Monaco\, 4′. Turquia —I tie my Hat – I crease my Shawl\, de Zeni Febus\, 3′ 26. Itàlia —Transexpace\, d’Anna Maria Staiano\, 8′ 28. Espanya.  — Videocreació del Mediterrani Activitat inclosa dins la Mostra Viva del Mediterrani 2019
URL:https://octubre.cat/activitat/seleccio-de-curts-de-dona-i-cinema/
LOCATION:Sala d’actes
CATEGORIES:Videoart
ATTACH;FMTTYPE=image/jpeg:https://octubre.cat/www/wp-content/uploads/2020/07/activitat3347.jpg
END:VEVENT
END:VCALENDAR