BEGIN:VCALENDAR
VERSION:2.0
PRODID:-//Octubre Centre de Cultura Contemporània - ECPv5.1.6//NONSGML v1.0//EN
CALSCALE:GREGORIAN
METHOD:PUBLISH
X-WR-CALNAME:Octubre Centre de Cultura Contemporània
X-ORIGINAL-URL:https://octubre.cat
X-WR-CALDESC:Events for Octubre Centre de Cultura Contemporània
BEGIN:VTIMEZONE
TZID:Europe/Andorra
BEGIN:DAYLIGHT
TZOFFSETFROM:+0100
TZOFFSETTO:+0200
TZNAME:CEST
DTSTART:20160327T010000
END:DAYLIGHT
BEGIN:STANDARD
TZOFFSETFROM:+0200
TZOFFSETTO:+0100
TZNAME:CET
DTSTART:20161030T010000
END:STANDARD
END:VTIMEZONE
BEGIN:VEVENT
DTSTART;TZID=Europe/Andorra:20160923T193000
DTEND;TZID=Europe/Andorra:20160923T193000
DTSTAMP:20260421T182240
CREATED:20200729T172019Z
LAST-MODIFIED:20200729T185557Z
UID:10775-1474659000-1474659000@octubre.cat
SUMMARY:Sebastià Perelló i Esperança Camps
DESCRIPTION:Divendres 23 de setembre a les 19.30h. Presentació de les seues darreres novel·les.  \n  \n  \n\n Veus al ras (Club Editor)\, de Sebastià Perelló\, presentat per Esperança Camps\, i L’illa sense temps (Meteora)\, d’Esperança Camps\, presentat per Sebastià Perelló.
URL:https://octubre.cat/activitat/sebastia-perello-i-esperanca-camps/
LOCATION:Llibreria 3i4
CATEGORIES:Literatura
ATTACH;FMTTYPE=image/jpeg:https://octubre.cat/www/wp-content/uploads/2020/07/activitat2641.jpg
END:VEVENT
END:VCALENDAR