BEGIN:VCALENDAR
VERSION:2.0
PRODID:-//Octubre Centre de Cultura Contemporània - ECPv5.1.6//NONSGML v1.0//EN
CALSCALE:GREGORIAN
METHOD:PUBLISH
X-WR-CALNAME:Octubre Centre de Cultura Contemporània
X-ORIGINAL-URL:https://octubre.cat
X-WR-CALDESC:Events for Octubre Centre de Cultura Contemporània
BEGIN:VTIMEZONE
TZID:Europe/Andorra
BEGIN:DAYLIGHT
TZOFFSETFROM:+0100
TZOFFSETTO:+0200
TZNAME:CEST
DTSTART:20080330T010000
END:DAYLIGHT
BEGIN:STANDARD
TZOFFSETFROM:+0200
TZOFFSETTO:+0100
TZNAME:CET
DTSTART:20081026T010000
END:STANDARD
END:VTIMEZONE
BEGIN:VEVENT
DTSTART;TZID=Europe/Andorra:20080111T200000
DTEND;TZID=Europe/Andorra:20080111T200000
DTSTAMP:20260420T205856
CREATED:20200729T181636Z
LAST-MODIFIED:20200730T035551Z
UID:12441-1200081600-1200081600@octubre.cat
SUMMARY:Se suspén l'actuació d'Insert-Coin
DESCRIPTION:Per causes alienes a l’OCCC\, l’actuació del grup Insert Coin programada per al divendres 11 de gener queda suspesa.   \n  \n  \n\nPer causes alienes a l’OCCC\, l’actuació del grup Insert Coin programada per al divendres 11 de gener queda suspesa.   Insert-coin.tv és una plataforma d’investigació audiovisual que desenvolupa directes donant suport visual a nombrosos events musicals (festivals\, Dj set’s…) així com a concerts i performances audiovisuals\, instal·lacions\, motion graphics…  Format a l’inici per Flan (JDCD) i Freakhardous (Ricardo Lodroño)\, també compten amb la col·laboració en l’equip visual d’Azart (Chris Masuy/UK) i en la part sonora de 2NGN (Alex Bordanova) i DEMIAN. Insert-coin.tv forma un exèrcit sòlid i creatiu en continu moviment\,  afrontant nous reptes i projectes artístics.  Insert-Coin.TV és l’ampliació de llur experiència professional com a dissenyadors i creadors a terrenys amb més cabuda per a la investigació\, l’experimentació i la llibertat creativa\, unida a la motivació cultural i artística i\, sobretot\, a la finalitat de l’oci i la diversió.  Més informació ací.
URL:https://octubre.cat/activitat/se-suspen-lactuacio-dinsert-coin/
LOCATION:No definit
CATEGORIES:Cicle S0N1V1S10
ATTACH;FMTTYPE=image/jpeg:https://octubre.cat/www/wp-content/uploads/2020/07/activitat440.jpg
END:VEVENT
END:VCALENDAR