BEGIN:VCALENDAR
VERSION:2.0
PRODID:-//Octubre Centre de Cultura Contemporània - ECPv5.1.6//NONSGML v1.0//EN
CALSCALE:GREGORIAN
METHOD:PUBLISH
X-WR-CALNAME:Octubre Centre de Cultura Contemporània
X-ORIGINAL-URL:https://octubre.cat
X-WR-CALDESC:Events for Octubre Centre de Cultura Contemporània
BEGIN:VTIMEZONE
TZID:Europe/Andorra
BEGIN:DAYLIGHT
TZOFFSETFROM:+0100
TZOFFSETTO:+0200
TZNAME:CEST
DTSTART:20090329T010000
END:DAYLIGHT
BEGIN:STANDARD
TZOFFSETFROM:+0200
TZOFFSETTO:+0100
TZNAME:CET
DTSTART:20091025T010000
END:STANDARD
END:VTIMEZONE
BEGIN:VEVENT
DTSTART;TZID=Europe/Andorra:20091209T230000
DTEND;TZID=Europe/Andorra:20091209T230000
DTSTAMP:20260420T175159
CREATED:20200729T164627Z
LAST-MODIFIED:20200729T182710Z
UID:8667-1260399600-1260399600@octubre.cat
SUMMARY:Scumearth
DESCRIPTION:Dimecres 9 de novembre\, a les 23.00h: CANVI D’ARTISTA. Scumearth (Madrid).   \n  \n  \n\nATENCIÓ: CANVI D’ARTISTA. VIOLET HA CANCEL·LAT LA SEUA ACTUACIÓ PER MOTIUS DE SALUT. EN SUBSTITUCIÓ TINDREM SCUMEARTH  El projecte Scumearth va nàixer a Madrid als inicis del 2000. Actualment\, la seua proposta de directe és la de treballar executant en temps real màquines i instruments analògics\, tàctils i fotosensibles\, sense enregistraments previs\, només amb allò que les màquines i la combinació d’aquestes generen.   És una proposta que fusiona atmosferes d’una obscuritat asfixiant i malaltissa\, amb explosions de harsh noise\, i influència del terror subconscient i conscient\, de les pel·lícules i de l’industrial més fred i brutal. Tot un clàssic de l’escena noise estatal\, que també és membre de Scum&Bones i quart membre fantasma del grup Machetazo.   Ha sigut director del segell Audio Intruder Pain i de les sessions homònimes al Bar Radar des de 1998. Com a Scumearth i Scum&Bones ha compartit cartell amb Esplendor Geométrico\, KK Null\, Crank Sturgeon\, Deathroes\, LSD March\, Wolves in the Throneroom…
URL:https://octubre.cat/activitat/scumearth/
LOCATION:No definit
CATEGORIES:Vibra
ATTACH;FMTTYPE=image/jpeg:https://octubre.cat/www/wp-content/uploads/2020/07/activitat1010.jpg
END:VEVENT
END:VCALENDAR