BEGIN:VCALENDAR
VERSION:2.0
PRODID:-//Octubre Centre de Cultura Contemporània - ECPv5.1.6//NONSGML v1.0//EN
CALSCALE:GREGORIAN
METHOD:PUBLISH
X-WR-CALNAME:Octubre Centre de Cultura Contemporània
X-ORIGINAL-URL:https://octubre.cat
X-WR-CALDESC:Events for Octubre Centre de Cultura Contemporània
BEGIN:VTIMEZONE
TZID:Europe/Andorra
BEGIN:DAYLIGHT
TZOFFSETFROM:+0100
TZOFFSETTO:+0200
TZNAME:CEST
DTSTART:20150329T010000
END:DAYLIGHT
BEGIN:STANDARD
TZOFFSETFROM:+0200
TZOFFSETTO:+0100
TZNAME:CET
DTSTART:20151025T010000
END:STANDARD
END:VTIMEZONE
BEGIN:VEVENT
DTSTART;TZID=Europe/Andorra:20150206T190000
DTEND;TZID=Europe/Andorra:20150206T190000
DTSTAMP:20260421T182035
CREATED:20200729T170835Z
LAST-MODIFIED:20200730T041323Z
UID:10023-1423249200-1423249200@octubre.cat
SUMMARY:Saranda i Sevaïl
DESCRIPTION:Divendres 6 de febrer a les 19.00h. Cançó valenciana des d’Elx. Concert de presentació a València  \n  \n  \n\n Concert de presentació a València.  Saranda i Sevaïl és un grup musical de cançó valenciana nascut a Elx l’any 2014.  El repertori majoritàriament està format per composicions pròpies de Daniel Andreu Beneit\, salvant alguns homenatges a les mestresses Maria del Mar Bonet i Eleftheria Arvanitaki. Les sonoritats del grup\, tant en música com en temàtica\, estan enclavades dins de les “Músiques del Mediterrani”\, influenciades per la música àrab\, grega o\, per supost\, per la música de la nostra terra; fins i tot podem trobar alguna referència al nostre Misteri d’Elx en alguna de les seues melodies.  “Hem triat com a nom del grup a la saranda i el sevaïl\, cistelles tradicionals amb què s’arrepleguen els dàtils als horts il·licitans. Aquests senzills elements\, per a nosaltres són com metàfores de l’esperit d’Elx\, el Palmerar. La sabata va portar prosperitat a la ciutat\, però Elx\, sense el palmerar seria una ciutat abocada a la decadència. Per això hem de demanar als governants que afalaguen el Palmerar com si fora un fill”.  Saranda i Sevaïl està format per : Patrícia Brotons a la veu i saxòfon. Josep Andreu Martínez al violí i percussió. Daniel Andreu Beneit a la guitarra i direcció musical. Col·laboren: Cristóbal Rentero (dolçaina\, llaüt\, bandúrria\, guitarró\, etc.) Joan Pertusa (contrabaix i baix elèctric).  Preu: 6 euros (socis: 4 euros) Amb la col·laboració d’Acció Cultural del País Valencià (ACPV)
URL:https://octubre.cat/activitat/saranda-i-sevail/
LOCATION:Sala d’actes
CATEGORIES:Música
ATTACH;FMTTYPE=image/jpeg:https://octubre.cat/www/wp-content/uploads/2020/07/activitat2220.jpg
END:VEVENT
END:VCALENDAR