BEGIN:VCALENDAR
VERSION:2.0
PRODID:-//Octubre Centre de Cultura Contemporània - ECPv5.1.6//NONSGML v1.0//EN
CALSCALE:GREGORIAN
METHOD:PUBLISH
X-WR-CALNAME:Octubre Centre de Cultura Contemporània
X-ORIGINAL-URL:https://octubre.cat
X-WR-CALDESC:Events for Octubre Centre de Cultura Contemporània
BEGIN:VTIMEZONE
TZID:Europe/Andorra
BEGIN:DAYLIGHT
TZOFFSETFROM:+0100
TZOFFSETTO:+0200
TZNAME:CEST
DTSTART:20140330T010000
END:DAYLIGHT
BEGIN:STANDARD
TZOFFSETFROM:+0200
TZOFFSETTO:+0100
TZNAME:CET
DTSTART:20141026T010000
END:STANDARD
END:VTIMEZONE
BEGIN:VEVENT
DTSTART;TZID=Europe/Andorra:20140423T190000
DTEND;TZID=Europe/Andorra:20140423T190000
DTSTAMP:20260421T072318
CREATED:20200729T170423Z
LAST-MODIFIED:20200730T041111Z
UID:9751-1398279600-1398279600@octubre.cat
SUMMARY:Sant Jordi 2014
DESCRIPTION:Dimecres 23 d’abril a les 19.00h. Gran festa de celebració de la diada de Sant Jordi i homenatge a Francesc Ferrer Pastor: La paraula fa el país  \n  \n  \n\n Gran festa de celebració de la diada de Sant Jordi de 2014  La paraula fa el país Homenatge a Francesc Ferrer Pastor.  Actuació de Feliu Ventura\, presenta Ferran Gadea. Venda de llibres i roses  Organitza: Associació d’Escriptors en Llengua Catalana i Acció Cultural del País Valencià  Col·laboren: Servei de Política Lingüística de la Universitat de València\, Gremi de Llibrers de València\, Gremi d’Editors del País Valencià\, Pen Català\, Associació d’Editors del País Valencià
URL:https://octubre.cat/activitat/sant-jordi-2014/
LOCATION:Hall
CATEGORIES:Literatura
ATTACH;FMTTYPE=image/jpeg:https://octubre.cat/www/wp-content/uploads/2020/07/activitat2047.jpg
END:VEVENT
END:VCALENDAR