BEGIN:VCALENDAR
VERSION:2.0
PRODID:-//Octubre Centre de Cultura Contemporània - ECPv5.1.6//NONSGML v1.0//EN
CALSCALE:GREGORIAN
METHOD:PUBLISH
X-WR-CALNAME:Octubre Centre de Cultura Contemporània
X-ORIGINAL-URL:https://octubre.cat
X-WR-CALDESC:Events for Octubre Centre de Cultura Contemporània
BEGIN:VTIMEZONE
TZID:Europe/Andorra
BEGIN:DAYLIGHT
TZOFFSETFROM:+0100
TZOFFSETTO:+0200
TZNAME:CEST
DTSTART:20190331T010000
END:DAYLIGHT
BEGIN:STANDARD
TZOFFSETFROM:+0200
TZOFFSETTO:+0100
TZNAME:CET
DTSTART:20191027T010000
END:STANDARD
END:VTIMEZONE
BEGIN:VEVENT
DTSTART;TZID=Europe/Andorra:20191005T000000
DTEND;TZID=Europe/Andorra:20191102T000000
DTSTAMP:20260423T081613
CREATED:20200729T173508Z
LAST-MODIFIED:20200905T152428Z
UID:11503-1570233600-1572652800@octubre.cat
SUMMARY:Sandra Figuerola: disseny
DESCRIPTION:Exposició inclosa en les activitats de Mostra Viva del Mediterrani 2019. \nInauguració: dissabte 5 d’octubre a les 19.00h. \nExposició de Sandra Figuerola\, autora del cartell de Mostra Viva 2019. \nEs realitza un recorregut per la seua llarga trajectòria com a dissenyadora i s’exhibeix una selecció d’alguns dels seus cartells\, catifes\, marques i productes. Desenvolupa la seua activitat en diverses àrees que abasten disseny gràfic\, disseny editorial\, identitat corporativa\, disseny industrial o tèxtil\, col·laborant amb empreses nacionals i internacionals. Especialment interessada en el disseny per a l’àmbit domèstic\, destaquen en disseny tèxtil les col·leccions de catifes realitzades per a Gandia Blasco. El seu interès per la professió s’estén a l’àmbit de la docència exercint com a professora en el CEU Sant Pablo i en la Facultat de Belles arts. El seu treball ha sigut publicat en revistes i llibres de disseny i ha participat en nombroses exposicions. \nArts Visuals del Mediterrani\nActivitat inclosa dins la Mostra Viva del Mediterrani 2019
URL:https://octubre.cat/activitat/sandra-figuerola-disseny/
LOCATION:Sala d’exposicions
CATEGORIES:Exposicions
ATTACH;FMTTYPE=image/jpeg:https://octubre.cat/www/wp-content/uploads/2020/07/activitat3337.jpg
END:VEVENT
END:VCALENDAR