BEGIN:VCALENDAR
VERSION:2.0
PRODID:-//Octubre Centre de Cultura Contemporània - ECPv5.1.6//NONSGML v1.0//EN
CALSCALE:GREGORIAN
METHOD:PUBLISH
X-WR-CALNAME:Octubre Centre de Cultura Contemporània
X-ORIGINAL-URL:https://octubre.cat
X-WR-CALDESC:Events for Octubre Centre de Cultura Contemporània
BEGIN:VTIMEZONE
TZID:Europe/Andorra
BEGIN:DAYLIGHT
TZOFFSETFROM:+0100
TZOFFSETTO:+0200
TZNAME:CEST
DTSTART:20160327T010000
END:DAYLIGHT
BEGIN:STANDARD
TZOFFSETFROM:+0200
TZOFFSETTO:+0100
TZNAME:CET
DTSTART:20161030T010000
END:STANDARD
END:VTIMEZONE
BEGIN:VEVENT
DTSTART;TZID=Europe/Andorra:20160422T193000
DTEND;TZID=Europe/Andorra:20160422T193000
DTSTAMP:20260421T163606
CREATED:20200729T171802Z
LAST-MODIFIED:20200729T185456Z
UID:10626-1461353400-1461353400@octubre.cat
SUMMARY:Samuel Reina + Alberto Amar
DESCRIPTION:Divendres 22 d’abril a les 19.30h. Presenten el seus respectius discos Alarms i Arte por error. Entrades a 6 i 8 euros.  \n  \n  \n\n Samuel Reina presentarà el seu nou àlbum Alarms (globoestudio 2016)\, en format banda. Per la seua part\, Alberto Amar presentarà el seu primer treball Arte por error\, juntament el guitarrista Dani Odisseu (Elial\, El Ser Humano\, Persona) i el productor i músic Suso Saiz\, pioner de la música new age al nostre país i reconegut per les seues produccions amb artistes com Iván Ferreiro\, Marlango o Christina Rosenvinge.  Entrades: Anticipada a notikumi.com: 6 € Taquilla: 8 €  — Espai Octubre Concerts és una iniciativa de l’Octubre CCC gestionada per les productores musicals Metrònom\, Play Producciones\,  Mésdemil i lacasacalba.org.
URL:https://octubre.cat/activitat/samuel-reina-alberto-amar/
CATEGORIES:Espai Octubre Concerts
ATTACH;FMTTYPE=image/jpeg:https://octubre.cat/www/wp-content/uploads/2020/07/activitat2563.jpg
END:VEVENT
END:VCALENDAR