BEGIN:VCALENDAR
VERSION:2.0
PRODID:-//Octubre Centre de Cultura Contemporània - ECPv5.1.6//NONSGML v1.0//EN
CALSCALE:GREGORIAN
METHOD:PUBLISH
X-WR-CALNAME:Octubre Centre de Cultura Contemporània
X-ORIGINAL-URL:https://octubre.cat
X-WR-CALDESC:Events for Octubre Centre de Cultura Contemporània
BEGIN:VTIMEZONE
TZID:Europe/Andorra
BEGIN:DAYLIGHT
TZOFFSETFROM:+0100
TZOFFSETTO:+0200
TZNAME:CEST
DTSTART:20130331T010000
END:DAYLIGHT
BEGIN:STANDARD
TZOFFSETFROM:+0200
TZOFFSETTO:+0100
TZNAME:CET
DTSTART:20131027T010000
END:STANDARD
END:VTIMEZONE
BEGIN:VEVENT
DTSTART;TZID=Europe/Andorra:20130601T000000
DTEND;TZID=Europe/Andorra:20130605T000000
DTSTAMP:20260424T030136
CREATED:20200729T170054Z
LAST-MODIFIED:20200729T184131Z
UID:9552-1370044800-1370390400@octubre.cat
SUMMARY:Saló Eròtic de València
DESCRIPTION:De l’1 al 5 de juny: projeccions\, taules rodones i presentacions relacionades amb la primera edició del Saló Eròtic de València  \n  \n  \n\n Del 6 al 9 de juny se celebra a la Fira de Mostres de València la primera edició del Saló Eròtic de València. Durant els dies anteriors\, diversos espais de la ciutat (centres culturals\, restaurants\, galeries\, etc.) acullen un seguit d’activitats relacionades amb aquest Saló.  L’Octubre CCC ofereix el següent programa:  Dissabte 1 de juny -19.00h: Taula rodona “Existeix un porno valencià?”\, amb Jose Casto (actor X)\, Andrés Martí (Aradia Films)\, Pablo Ferrari (Red DevilX) i Lulú Pretel (actriu X). Modera: Paco Gisbert (director del Saló Eròtic de València)  Diumenge 2 de juny 19.00h. Cinema X: La Mansión de Nacho Vidal. Debat i trobada del públic amb Nacho Vidal  Dilluns 3 de juny 19.00h: Presentació del fanzine 2000maniacos amb Manuel Valencia\, Paco Gisbert i Dunia Montenegro  Dimarts 4 de juny 18.30h: Cinema X: El diario fetish de Fanceska. Debat i trobada del públic amb Franceska Jaimes i Paco Gisbert  Dimecres 5 de juny 18.00h. Taula rodona “El porno a Espanya en l’actualitat”\, amb Fernando Chierichetti (Actricesdelporno)\, Roberto Chivas (Explicita)\, Toni All Spice (All Spice)\, Arnaldo (Fakings) i Pablo Ferrari (Red Devil)\, moderada per Juli Simón  Més informació i programa complet a la web del Saló Eròtic de València
URL:https://octubre.cat/activitat/salo-erotic-de-valencia/
LOCATION:Sala d’actes
CATEGORIES:Literatura
ATTACH;FMTTYPE=image/jpeg:https://octubre.cat/www/wp-content/uploads/2020/07/activitat1808.jpg
END:VEVENT
END:VCALENDAR