BEGIN:VCALENDAR
VERSION:2.0
PRODID:-//Octubre Centre de Cultura Contemporània - ECPv5.1.6//NONSGML v1.0//EN
CALSCALE:GREGORIAN
METHOD:PUBLISH
X-WR-CALNAME:Octubre Centre de Cultura Contemporània
X-ORIGINAL-URL:https://octubre.cat
X-WR-CALDESC:Events for Octubre Centre de Cultura Contemporània
BEGIN:VTIMEZONE
TZID:Europe/Andorra
BEGIN:DAYLIGHT
TZOFFSETFROM:+0100
TZOFFSETTO:+0200
TZNAME:CEST
DTSTART:20110327T010000
END:DAYLIGHT
BEGIN:STANDARD
TZOFFSETFROM:+0200
TZOFFSETTO:+0100
TZNAME:CET
DTSTART:20111030T010000
END:STANDARD
END:VTIMEZONE
BEGIN:VEVENT
DTSTART;TZID=Europe/Andorra:20110312T190000
DTEND;TZID=Europe/Andorra:20110312T190000
DTSTAMP:20260422T162503
CREATED:20200729T165451Z
LAST-MODIFIED:20200730T042753Z
UID:9195-1299956400-1299956400@octubre.cat
SUMMARY:Sakiko Yamaoka (Tokyo) + Willem Wilhelmus (Helsinki) + Eva Gutiérrez (Madrid)
DESCRIPTION:Dissabte 12 de març\, a les 19.00h: Sakiko Yamaoka (Tokyo) + Willem Wilhelmus (Helsinki) + Eva Gutiérrez (Madrid).   \n  \n  \n\nSakiko Yamaoka defineix el seu treball com escultures que representen una acció\, temps i relació entre l’artista i l’audiència o l’artista i els materials amb els que intenta crear un exemple del que és la condició humana. Els humans són criatures contradictòries. Quan es dóna una conferència de qualsevol mena al públic és necessari unir tots els pensaments i concentrar-se per a evitar perdre’s; no obstant\, en fer aquest exercici es perd un segon o tercer sentit. En el seu treball\, Yamaoka investiga aquests “sentits extra” que desapareixen en presència d’altres.  Willem Wilhelmus va nàixer als Països Baixos\, però resideix a Finlàndia. Des del 1999\, ha presentat més de cent obres d’art distintiu en esdeveniments internacionals pertot el món. A més\, des del 2002\, és professor de consciència corporal i de performance en tallers que s’imparteixen a diverses institucions d’art de Finlàndia\, Estònia i Suècia. Pel que fa a esdeveniments d’art en directe\, ha sigut comissari regular del (New) ArtContact\, des del 2004\, i aquest 2011 és comissari dels “Fake Fin Festival for experimental live arts” d’Helsinki. El seu compromís personal és el d’introduir el continent africà dins del panorama internacional de l’art performatiu.   Eva Gutiérrez és llicenciada en Belles Arts per la Universitat Complutense de Madrid\, però la seua formació universitària va aparellada a la seua formació teatral i circense. L’any 2009 va entrar en contacte per primera vegada amb l’art d’acció mentre cursava una beca Sèneca a València. Actualment viu a Madrid on realitza un taller de creació i performance de la companyia Stavibo-Artes Transescénicas i treballa amb la companyia de teatre Cáscara. La seua acció tractarà de crear un equilibri entre so i cos\, a partir d’una peça sonora generada per la ciutat de Madrid\, segons els seus sons\, ritmes i dinàmiques\, i un treball corporal en el qual jugarà amb els estats no ordinaris de la consciència\, la resistència i els límits del cos.
URL:https://octubre.cat/activitat/sakiko-yamaoka-tokyo-willem-wilhelmus-helsinki-eva-gutierrez-madrid/
LOCATION:No definit
CATEGORIES:Arrt d'Accció
ATTACH;FMTTYPE=image/jpeg:https://octubre.cat/www/wp-content/uploads/2020/07/activitat1421.jpg
END:VEVENT
END:VCALENDAR