BEGIN:VCALENDAR
VERSION:2.0
PRODID:-//Octubre Centre de Cultura Contemporània - ECPv5.1.6//NONSGML v1.0//EN
CALSCALE:GREGORIAN
METHOD:PUBLISH
X-WR-CALNAME:Octubre Centre de Cultura Contemporània
X-ORIGINAL-URL:https://octubre.cat
X-WR-CALDESC:Events for Octubre Centre de Cultura Contemporània
BEGIN:VTIMEZONE
TZID:Europe/Andorra
BEGIN:DAYLIGHT
TZOFFSETFROM:+0100
TZOFFSETTO:+0200
TZNAME:CEST
DTSTART:20070325T010000
END:DAYLIGHT
BEGIN:STANDARD
TZOFFSETFROM:+0200
TZOFFSETTO:+0100
TZNAME:CET
DTSTART:20071028T010000
END:STANDARD
END:VTIMEZONE
BEGIN:VEVENT
DTSTART;TZID=Europe/Andorra:20071212T190000
DTEND;TZID=Europe/Andorra:20071212T190000
DTSTAMP:20260420T173954
CREATED:20200729T181541Z
LAST-MODIFIED:20260106T154428Z
UID:12389-1197486000-1197486000@octubre.cat
SUMMARY:Saber i comunicar. El discurs divulgatiu en català
DESCRIPTION:La conferència  “Saber i comunicar. El discurs divulgatiu en català”  tindrà com a ponent a Vicent Salvador\, catedràtic de la Universitat Jaume I  i serà presentada per Ramon Lapiedra\, catedràtic de la Universitat de València.   Organitzen l’Institut d’Estudis Catalans i Acció Cultural del País Valencià
URL:https://octubre.cat/activitat/saber-i-comunicar-el-discurs-divulgatiu-en-catala/
LOCATION:No definit
CATEGORIES:Conferències i congressos
ATTACH;FMTTYPE=image/jpeg:https://octubre.cat/www/wp-content/uploads/2020/07/conferencia1.jpg
END:VEVENT
END:VCALENDAR