BEGIN:VCALENDAR
VERSION:2.0
PRODID:-//Octubre Centre de Cultura Contemporània - ECPv5.1.6//NONSGML v1.0//EN
CALSCALE:GREGORIAN
METHOD:PUBLISH
X-WR-CALNAME:Octubre Centre de Cultura Contemporània
X-ORIGINAL-URL:https://octubre.cat
X-WR-CALDESC:Events for Octubre Centre de Cultura Contemporània
BEGIN:VTIMEZONE
TZID:Europe/Andorra
BEGIN:DAYLIGHT
TZOFFSETFROM:+0100
TZOFFSETTO:+0200
TZNAME:CEST
DTSTART:20140330T010000
END:DAYLIGHT
BEGIN:STANDARD
TZOFFSETFROM:+0200
TZOFFSETTO:+0100
TZNAME:CET
DTSTART:20141026T010000
END:STANDARD
END:VTIMEZONE
BEGIN:VEVENT
DTSTART;TZID=Europe/Andorra:20140424T190000
DTEND;TZID=Europe/Andorra:20140424T190000
DTSTAMP:20260421T120730
CREATED:20200729T170428Z
LAST-MODIFIED:20200730T041117Z
UID:9756-1398366000-1398366000@octubre.cat
SUMMARY:Rutes\, passejos i visites guiades: noves visions de València i la seua història
DESCRIPTION:Dijous 24 d’abril a les 19.00h: debat sobre el fenomen de les noves rutes urbanes\, visites guiades i passejades històriques que s’organitzen a València\, en el segon aniversari de Rutes Ciutadanes de València  \n  \n  \n\n València viu un revifament de les iniciatives ciutadanes\, associatives i privades que pretenen oferir a autòctons i forasters una imatge ben diferent\, “no oficial”\, de la seua pròpia història i dels aspectes culturals més importants.  Per celebrar el segon aniversari de les Rutes Ciutadanes de València\, el Col·lectiu periodístic Xarxa Urbana ha volgut ajuntar tot un ventall molt divers d’aquestes Passejades\, Visites organitzades i Rutes a peu o en bus per la capital del País\, per tal de debatre sobre el fenomen -ja recollit per algun mitjà de comunicació- i valorar les seues potencialitats de cara a la conformació d’una consciència ciutadana i veïnal molt diferent a la del “Cap i Casal” difosa pels sectors més reaccionaris i mercantils.  Et convidem a escoltar i conèixer als nous actors d’aquesta nova “Marca València” no controlada des de les institucions i els agents turístics a l’ús\, què possiblement us oferiran alternatives d’oci i enriquiment personal excel·lents.  Participen al debat: –CaminArt Cooperativa Valenciana (Camins de Cultura i d’Art) –Paseando por los Poblados de la Mar (El Cabanyal i el Grau) –Rutes Ciutadanes de València / Ruta del Despilfarro –Visites guiades per la València Republicana (J. María Azcárraga) –Visita Ruzafa.com –Guia Sonora de Ciutat Vella
URL:https://octubre.cat/activitat/rutes-passejos-i-visites-guiades-noves-visions-de-valencia-i-la-seua-historia/
CATEGORIES:Conferències i congressos
ATTACH;FMTTYPE=image/jpeg:https://octubre.cat/www/wp-content/uploads/2020/07/activitat2053.jpg
END:VEVENT
END:VCALENDAR