BEGIN:VCALENDAR
VERSION:2.0
PRODID:-//Octubre Centre de Cultura Contemporània - ECPv5.1.6//NONSGML v1.0//EN
CALSCALE:GREGORIAN
METHOD:PUBLISH
X-WR-CALNAME:Octubre Centre de Cultura Contemporània
X-ORIGINAL-URL:https://octubre.cat
X-WR-CALDESC:Events for Octubre Centre de Cultura Contemporània
BEGIN:VTIMEZONE
TZID:Europe/Andorra
BEGIN:DAYLIGHT
TZOFFSETFROM:+0100
TZOFFSETTO:+0200
TZNAME:CEST
DTSTART:20170326T010000
END:DAYLIGHT
BEGIN:STANDARD
TZOFFSETFROM:+0200
TZOFFSETTO:+0100
TZNAME:CET
DTSTART:20171029T010000
END:STANDARD
END:VTIMEZONE
BEGIN:VEVENT
DTSTART;TZID=Europe/Andorra:20170217T200000
DTEND;TZID=Europe/Andorra:20170217T200000
DTSTAMP:20260420T173037
CREATED:20200729T172327Z
LAST-MODIFIED:20200729T185721Z
UID:10971-1487361600-1487361600@octubre.cat
SUMMARY:Rural Zombies
DESCRIPTION:Divendres 17 de febrer a les 20.00h. Actuació inclosa en la gira #GPS7. Entrades a 5 i 8 euros.  \n  \n  \n\n Rural Zombies són Julia a la veu i sintetitzadors\, Manu i Luken a les guitarres\, Marcos al baix i Aratz a la bateria. Malgrat la seua joventut\, tots venen d’altres formacions i estils\, fet que els aporta seguretat en l’escenari per fer ballar tots els públics. Formats a Zestoa (Guipúscoa) en 2014\, han aconseguit arribar a les fases finals de concursos com el Villa de Bilbao\, Gaztea o Gre2Sonora\, etc. i han participat a festivals com el BIG Festival\, Mundaka Festival\, Gijón Sound Festival i Irun Rock Festival. Presenten ara BAT\, el seu disc de debut que conté\, a més\, els tres talls de l’EP Stones\, que tan bones crítiques va tenir\, en combinar els ambients propis de la pista de ball i les guitarres\, tot sustentat per una contundent base rítmica  Actuació inclosa en la gira #GPS7.  Entrades: 8 euros en taquilla Anticipades a ticketea.com: 5 euros. Apertura de portes: 19.30h  — Espai Octubre Concerts és una iniciativa de l’Octubre CCC gestionada per les productores musicals Metrònom\, Play Producciones\,  Mésdemil i lacasacalba.org.
URL:https://octubre.cat/activitat/rural-zombies/
LOCATION:Sala d’actes
CATEGORIES:Espai Octubre Concerts
ATTACH;FMTTYPE=image/jpeg:https://octubre.cat/www/wp-content/uploads/2020/07/activitat2748.jpg
END:VEVENT
END:VCALENDAR