BEGIN:VCALENDAR
VERSION:2.0
PRODID:-//Octubre Centre de Cultura Contemporània - ECPv5.1.6//NONSGML v1.0//EN
CALSCALE:GREGORIAN
METHOD:PUBLISH
X-WR-CALNAME:Octubre Centre de Cultura Contemporània
X-ORIGINAL-URL:https://octubre.cat
X-WR-CALDESC:Events for Octubre Centre de Cultura Contemporània
BEGIN:VTIMEZONE
TZID:Europe/Andorra
BEGIN:DAYLIGHT
TZOFFSETFROM:+0100
TZOFFSETTO:+0200
TZNAME:CEST
DTSTART:20070325T010000
END:DAYLIGHT
BEGIN:STANDARD
TZOFFSETFROM:+0200
TZOFFSETTO:+0100
TZNAME:CET
DTSTART:20071028T010000
END:STANDARD
END:VTIMEZONE
BEGIN:VEVENT
DTSTART;TZID=Europe/Andorra:20070307T000000
DTEND;TZID=Europe/Andorra:20070307T000000
DTSTAMP:20260420T182517
CREATED:20200906T143023Z
LAST-MODIFIED:20260110T163809Z
UID:14883-1173225600-1173225600@octubre.cat
SUMMARY:(((vibra))): Rubén García
DESCRIPTION:Rubén García presenta “Dark Matter”. \nNascut a València (1974) és biòleg i artista sonor. A banda de coordinador d’aquest cicle (((vibra)))\, Rubén García és també propietari del segell Eozöon Rec. i programador del Festival Observatori de València.\nLa seua creació “Dark Matter” va ser estrenada amb motiu del congrés “Expanding the Space” organitzat per l’Octubre CCC a València el mes d’octubre de 2006. \n—\nSessió del cicle (((vibra))) d’art sonor i música experimental.\nUna producció de l’Octubre CCC coordinada per Rubén García (Eozöon Rec. / València)
URL:https://octubre.cat/activitat/ruben-garcia/
LOCATION:Sala d’actes
CATEGORIES:Vibra
ATTACH;FMTTYPE=image/jpeg:https://octubre.cat/www/wp-content/uploads/2020/07/musica1.jpg
END:VEVENT
END:VCALENDAR