BEGIN:VCALENDAR
VERSION:2.0
PRODID:-//Octubre Centre de Cultura Contemporània - ECPv5.1.6//NONSGML v1.0//EN
CALSCALE:GREGORIAN
METHOD:PUBLISH
X-WR-CALNAME:Octubre Centre de Cultura Contemporània
X-ORIGINAL-URL:https://octubre.cat
X-WR-CALDESC:Events for Octubre Centre de Cultura Contemporània
BEGIN:VTIMEZONE
TZID:Europe/Andorra
BEGIN:DAYLIGHT
TZOFFSETFROM:+0100
TZOFFSETTO:+0200
TZNAME:CEST
DTSTART:20190331T010000
END:DAYLIGHT
BEGIN:STANDARD
TZOFFSETFROM:+0200
TZOFFSETTO:+0100
TZNAME:CET
DTSTART:20191027T010000
END:STANDARD
END:VTIMEZONE
BEGIN:VEVENT
DTSTART;TZID=Europe/Andorra:20190503T200000
DTEND;TZID=Europe/Andorra:20190503T200000
DTSTAMP:20260425T192653
CREATED:20200729T173341Z
LAST-MODIFIED:20200729T191117Z
UID:11408-1556913600-1556913600@octubre.cat
SUMMARY:Rubén Aparisi presenta "L’espill"
DESCRIPTION:Divendres 3 de maig a les 20.00h. Espectacle de màgia. Entrades a 6 i 8 euros.	 \n  \n  \n\n 	 Espectacle de màgia  Quantes hores passa un mag davant l’espill? Bo\, dels dos espills\, el literal i el figurat. Quines pors ha de superar abans de pujar a un escenari? I quins recursos hi ha hagut d’aprendre?  Aquestes qüestions i altres de relacionades respon el mag Rubén Aparisi a L’espill\, un espectacle de màgia molt sincer\, en el qual el mag valencià exposa els seus defectes\, errors i superacions per acabar reflectint-se a l’espill del públic en viu.  El mag Rubén Aparisi deconstrueix la imatge típica del mag. Es desmarca de la tendència a situar-se per damunt de l’espectador pel fet de saber alguna cosa que aquest no sap (el truc) i renuncia a l’altivesa.  Anticipades a Notikumi: 6 euros En taquilla: 8 euros *No recomanat per a menors de 13 anys*  — Intèrpret: Rubén Aparisi Guió i direcció: Rubén Aparisi Escenografia: Los Reyes del Mambo Disseny gràfic: Sara Pardo Audiovisual: Alberto Martínez Il·luminació: Joan Francesc Mas Ajudant d’escena: Mario Márquez
URL:https://octubre.cat/activitat/ruben-aparisi-presenta-lespill/
LOCATION:Sala d’actes
CATEGORIES:Teatre
ATTACH;FMTTYPE=image/jpeg:https://octubre.cat/www/wp-content/uploads/2020/07/activitat3253.jpg
END:VEVENT
END:VCALENDAR