BEGIN:VCALENDAR
VERSION:2.0
PRODID:-//Octubre Centre de Cultura Contemporània - ECPv5.1.6//NONSGML v1.0//EN
CALSCALE:GREGORIAN
METHOD:PUBLISH
X-WR-CALNAME:Octubre Centre de Cultura Contemporània
X-ORIGINAL-URL:https://octubre.cat
X-WR-CALDESC:Events for Octubre Centre de Cultura Contemporània
BEGIN:VTIMEZONE
TZID:Europe/Andorra
BEGIN:DAYLIGHT
TZOFFSETFROM:+0100
TZOFFSETTO:+0200
TZNAME:CEST
DTSTART:20100328T010000
END:DAYLIGHT
BEGIN:STANDARD
TZOFFSETFROM:+0200
TZOFFSETTO:+0100
TZNAME:CET
DTSTART:20101031T010000
END:STANDARD
END:VTIMEZONE
BEGIN:VEVENT
DTSTART;TZID=Europe/Andorra:20100604T200000
DTEND;TZID=Europe/Andorra:20100604T200000
DTSTAMP:20260420T235513
CREATED:20200729T164931Z
LAST-MODIFIED:20200730T042505Z
UID:8849-1275681600-1275681600@octubre.cat
SUMMARY:Rosvita
DESCRIPTION:Divendres 4 de juny\, a les 20.00h: Rosvita (Madrid).   \n  \n  \n\nRosvita és el trio madrileny dels mitjons rojos i els cordons desniats. En actiu des de l’any 2000\, van autoeditar els seus dos primers Lps: Rosvita (Siete Hermanas\, 2003) i Podrida Ser (Famelia / ¡Brama!\, 2006). En els últims tres anys\, no han parat d’actuar al llarg i ample del vell continent; més de seixanta actuacions en ciutats de França\, Bèlgica\, Regne Unit\, Alemanya\, Txèquia\, Sèrbia\, Portugal… els avalen. El 2009 van formar part del cartell d’alguns festivals importants\, com ara el Primavera Sound (Barcelona)\, La Noche en Blanco (Madrid) o el Monkey Week (Puerto de Santa María). Han sigut teloners de bandes com Acid Mothers Temple\, Cansei de Ser Sexy o Devastations. El seu tercer treball Grandes Tormentos (Recordings From the Other Side) va veure la llum el passat mes de març. La seua és una música anàrquica\, que barreja pop\, rock\, punk i fusió\, descarada i inclassificable. Rosvita són Nacho (percussió\, trompeta i veu)\, Mane (baix) i Manolo (guitarres\, teclats i veu).
URL:https://octubre.cat/activitat/rosvita/
LOCATION:No definit
CATEGORIES:Cicle de música pop
ATTACH;FMTTYPE=image/jpeg:https://octubre.cat/www/wp-content/uploads/2020/07/activitat1198.jpg
END:VEVENT
END:VCALENDAR