BEGIN:VCALENDAR
VERSION:2.0
PRODID:-//Octubre Centre de Cultura Contemporània - ECPv5.1.6//NONSGML v1.0//EN
CALSCALE:GREGORIAN
METHOD:PUBLISH
X-WR-CALNAME:Octubre Centre de Cultura Contemporània
X-ORIGINAL-URL:https://octubre.cat
X-WR-CALDESC:Events for Octubre Centre de Cultura Contemporània
BEGIN:VTIMEZONE
TZID:Europe/Andorra
BEGIN:DAYLIGHT
TZOFFSETFROM:+0100
TZOFFSETTO:+0200
TZNAME:CEST
DTSTART:20220327T010000
END:DAYLIGHT
BEGIN:STANDARD
TZOFFSETFROM:+0200
TZOFFSETTO:+0100
TZNAME:CET
DTSTART:20221030T010000
END:STANDARD
END:VTIMEZONE
BEGIN:VEVENT
DTSTART;TZID=Europe/Andorra:20221027T190000
DTEND;TZID=Europe/Andorra:20221027T190000
DTSTAMP:20260420T181203
CREATED:20221004T094400Z
LAST-MODIFIED:20221004T094400Z
UID:18801-1666897200-1666897200@octubre.cat
SUMMARY:Rosa Pérez: “Propostes de futur per a un País imperfecte”
DESCRIPTION:Conferència-debat amb Rosa Pérez\, coordinadora d’EUPV i Consellera de Participació\, Transparència\, Cooperació i Qualitat Democràtica de la Generalitat Valenciana \n–Presentació: Anna Garcia\, secretària general de CCOO-PV\n–Benvinguda: Anna Oliver\, presidenta d’ACPV \n—\nActe organitzat per Acció Cultural del País Valencià
URL:https://octubre.cat/activitat/rosa-perez-propostes-de-futur-per-a-un-pais-imperfecte/
LOCATION:Hall
CATEGORIES:Cicle País Valencià i Futur
ATTACH;FMTTYPE=image/jpeg:https://octubre.cat/www/wp-content/uploads/2022/10/RosaPerez.jpg
END:VEVENT
END:VCALENDAR