BEGIN:VCALENDAR
VERSION:2.0
PRODID:-//Octubre Centre de Cultura Contemporània - ECPv5.1.6//NONSGML v1.0//EN
CALSCALE:GREGORIAN
METHOD:PUBLISH
X-WR-CALNAME:Octubre Centre de Cultura Contemporània
X-ORIGINAL-URL:https://octubre.cat
X-WR-CALDESC:Events for Octubre Centre de Cultura Contemporània
BEGIN:VTIMEZONE
TZID:Europe/Andorra
BEGIN:DAYLIGHT
TZOFFSETFROM:+0100
TZOFFSETTO:+0200
TZNAME:CEST
DTSTART:20190331T010000
END:DAYLIGHT
BEGIN:STANDARD
TZOFFSETFROM:+0200
TZOFFSETTO:+0100
TZNAME:CET
DTSTART:20191027T010000
END:STANDARD
END:VTIMEZONE
BEGIN:VEVENT
DTSTART;TZID=Europe/Andorra:20190724T190000
DTEND;TZID=Europe/Andorra:20190724T190000
DTSTAMP:20260423T041008
CREATED:20200729T173437Z
LAST-MODIFIED:20200729T191206Z
UID:11469-1563994800-1563994800@octubre.cat
SUMMARY:"Romeo & Giulietta"\, de  Bernardo Alcover i Anahit Pojolyan
DESCRIPTION:Dimecres 24 de juliol a les 19.00h. Cicle de cinema valencià\, en col·laboració amb Musamovies.  Presentada pels directors i per la protagonista Julia Navarrete. Entrada lliure.	 \n  \n  \n\n 	 Projecció presentada pels directors i per la protagonista Julia Navarrete.  Basada en l’obra mestra de William Shakespeare\, Romeo & Giulietta conta la ja familiar tragèdia dels amants de Verona d’una manera nova i sorprenent. Dues famílies mafioses es converteixen en fitxes d’una partida d’escacs en un intent per donar resposta a aquesta pregunta: existeix de debò un amor constant més enllà de la mort?  Direcció: Bernardo Alcover i Anahit Pojolyan (2018) Guió: Bernardo Alcover (a partir del llibre de William Shakespeare) Fotografia: Javier N. Pérez Repartiment: Marta Waits\, Julia Navarrete\, Bernardo Alcover\, Adrián Lluch\, Nacho Llacer\, Susana Feijóo\, Fran Pérez\, Adrián Molero\, Karo Poghosyan Productora: Celuloixel Durada: 67’  — Cicle de cinema valencià\, amb la col·laboració de Musamovies. Coordinació del cicle: Antonio Lloréns Entrada lliure.
URL:https://octubre.cat/activitat/romeo-giulietta-de-bernardo-alcover-i-anahit-pojolyan-2/
LOCATION:Sala d’actes
CATEGORIES:Cinema
ATTACH;FMTTYPE=image/jpeg:https://octubre.cat/www/wp-content/uploads/2020/07/activitat3314.jpg
END:VEVENT
END:VCALENDAR