BEGIN:VCALENDAR
VERSION:2.0
PRODID:-//Octubre Centre de Cultura Contemporània - ECPv5.1.6//NONSGML v1.0//EN
CALSCALE:GREGORIAN
METHOD:PUBLISH
X-WR-CALNAME:Octubre Centre de Cultura Contemporània
X-ORIGINAL-URL:https://octubre.cat
X-WR-CALDESC:Events for Octubre Centre de Cultura Contemporània
BEGIN:VTIMEZONE
TZID:Europe/Andorra
BEGIN:DAYLIGHT
TZOFFSETFROM:+0100
TZOFFSETTO:+0200
TZNAME:CEST
DTSTART:20090329T010000
END:DAYLIGHT
BEGIN:STANDARD
TZOFFSETFROM:+0200
TZOFFSETTO:+0100
TZNAME:CET
DTSTART:20091025T010000
END:STANDARD
END:VTIMEZONE
BEGIN:VEVENT
DTSTART;TZID=Europe/Andorra:20090505T193000
DTEND;TZID=Europe/Andorra:20090505T193000
DTSTAMP:20260420T195800
CREATED:20200729T182439Z
LAST-MODIFIED:20200729T182439Z
UID:12834-1241551800-1241551800@octubre.cat
SUMMARY:Roma
DESCRIPTION:Dimarts 5 de maig\, a les 19.30h: València. Repensar la ciutat: “Roma. Planificant el futur d’una gran ciutat”\, conferència a càrrec de Federico Oliva\, arquitecte i director del Piano Regolatore (Pla d’Ordenació Urbana) de Roma.   \n  \n  \n\nConferència “Roma. Planificant el futur d’una gran ciutat”\, a càrrec de Federico Oliva.   Federico Oliva és arquitecte i professor titular de Planejament Urbanístic en la Facultat d’Arquitectura del Politècnic de Milà. És el director del Piano Regolatore (Pla d’Ordenació Urbana) de Roma.   Contrapunt a càrrec de Rafael Rivera\, arquitecte i professor d’Urbanisme de la Universitat Politècnica de València.   Modera Fernando Gaja i Díaz\, doctor arquitecte i professor titular d’Urbanisme de la Universitat Politècnica de València.
URL:https://octubre.cat/activitat/roma/
LOCATION:No definit
CATEGORIES:Institut del Territori
ATTACH;FMTTYPE=image/jpeg:https://octubre.cat/www/wp-content/uploads/2020/07/activitat863.jpg
END:VEVENT
END:VCALENDAR