BEGIN:VCALENDAR
VERSION:2.0
PRODID:-//Octubre Centre de Cultura Contemporània - ECPv5.1.6//NONSGML v1.0//EN
CALSCALE:GREGORIAN
METHOD:PUBLISH
X-WR-CALNAME:Octubre Centre de Cultura Contemporània
X-ORIGINAL-URL:https://octubre.cat
X-WR-CALDESC:Events for Octubre Centre de Cultura Contemporània
BEGIN:VTIMEZONE
TZID:Europe/Andorra
BEGIN:DAYLIGHT
TZOFFSETFROM:+0100
TZOFFSETTO:+0200
TZNAME:CEST
DTSTART:20080330T010000
END:DAYLIGHT
BEGIN:STANDARD
TZOFFSETFROM:+0200
TZOFFSETTO:+0100
TZNAME:CET
DTSTART:20081026T010000
END:STANDARD
END:VTIMEZONE
BEGIN:VEVENT
DTSTART;TZID=Europe/Andorra:20081026T190000
DTEND;TZID=Europe/Andorra:20081026T190000
DTSTAMP:20260420T235425
CREATED:20200729T182054Z
LAST-MODIFIED:20200730T035846Z
UID:12694-1225047600-1225047600@octubre.cat
SUMMARY:Rogerio Campas Quartet
DESCRIPTION:Diumenge 26 d’octubre\, a les 19.00h: Rogerio Campas Quartet  \n  \n  \n\nRogerio Campas àlies “Ludwig Parker” va nàixer a Angola. D’orígen portuguès i brasiler\, va estar diversos anys viatjant i tocant per Àfrica\, Europa i els Estats Units. La seua música reflexa la pluralitat cultural\, tot barrejant jazz\, bossa nova i el seu propi blues: la música tradicional angolenya.  Rogerio Campas: vocals\, baix i guitarra Tere Núeñez: cors\, guitarra i baix David Pastor: trompeta i flauta Oswaldo George: percussions
URL:https://octubre.cat/activitat/rogerio-campas-quartet/
LOCATION:No definit
CATEGORIES:Diumenges de Jazz!
ATTACH;FMTTYPE=image/jpeg:https://octubre.cat/www/wp-content/uploads/2020/07/musica1.jpg
END:VEVENT
END:VCALENDAR