BEGIN:VCALENDAR
VERSION:2.0
PRODID:-//Octubre Centre de Cultura Contemporània - ECPv5.1.6//NONSGML v1.0//EN
CALSCALE:GREGORIAN
METHOD:PUBLISH
X-WR-CALNAME:Octubre Centre de Cultura Contemporània
X-ORIGINAL-URL:https://octubre.cat
X-WR-CALDESC:Events for Octubre Centre de Cultura Contemporània
BEGIN:VTIMEZONE
TZID:Europe/Andorra
BEGIN:DAYLIGHT
TZOFFSETFROM:+0100
TZOFFSETTO:+0200
TZNAME:CEST
DTSTART:20080330T010000
END:DAYLIGHT
BEGIN:STANDARD
TZOFFSETFROM:+0200
TZOFFSETTO:+0100
TZNAME:CET
DTSTART:20081026T010000
END:STANDARD
END:VTIMEZONE
BEGIN:VEVENT
DTSTART;TZID=Europe/Andorra:20080712T190000
DTEND;TZID=Europe/Andorra:20080712T190000
DTSTAMP:20260420T215704
CREATED:20200729T181934Z
LAST-MODIFIED:20200730T035806Z
UID:12614-1215889200-1215889200@octubre.cat
SUMMARY:Rodolfo Franco (Brasil) / Raül Galvez (Guardamar del Segura) / Carlos Llavata (València)
DESCRIPTION:Dissabte 12 de juliol\, 19.00h Rodolfo Franco (Brasil) / Raül Galvez (Guardamar del Segura) / Carlos Llavata (València)  \n  \n  \n\nRodolfo Franco (Brasil) Antropòleg de formació\, dissenyador gràfic de professió\, poeta de vocació\, a més té la pretensió d’arribar a mag. Naix a Brasil i viu a la península des de 1989 on\, destaquem\, va coeditar la revista Delta Nueve i va publicar els llibres 22 Corazones (Gonzalo de Luis Editor\, Madrid\, 1996) i Álbum de Cromos (Diputación de Badajoz\, 2004). Ha col·laborat en diversos llibres col·lectius\, revistes\, catàlegs\, webs\, exposicions\, trobades i festivals\, comptant la seua trajectòria amb més de tres-centes participacions en publicacions i esdeveniments en catorze països. Té obra tant en espanyol com en portugués i des d’uns quants fronts: formes clàssiques\, haikais\, poemes concrets\, poemes visuals\, poemes objecte\, performances\, cançons; i practica procediments ludolingüístics com els palíndroms i els anagrames. A més és membre integrant del grup musical Comando Macondo i promotor cultural a Mèrida\, on resideix actualment\, organitzant esdeveniments i gestionant espais culturals.  Raül Galvez (Guardamar del Segura) Naix a Redovà (Baix Segura) el 1969. Llicenciat en Belles Arts. Artista postal\, està present en moltes exposicions internacionals. Ha organitzat convocatòries de mail-art a Xiva (Foia de Bunyol)\, Guardamar (Baix Segura)\, Paiporta (l’Horta Sud) i Alcalà de Xivert (Baix Maestrat). Va ser membre d’ANCA (Associació de Nous Comportaments Artístics). Poeta i artista interdisciplinar\, practica esporàdicament la performance\, la instal·lació\, la pintura\, l’edició independent… i més habitualment la creació gràfica amb poemes visuals o la poesia objecte. Organitzador de la trobada de performances i instal·lacions 2 minuts per la guerra. “M’interessa l’art que commou\, fàcil d’entendre\, social\, amb implicació de l’artista\, gens elitista\, encara que a vegades sí que m’agrada l’art per l’art. Recorde les performances de Seiji Shimoda (On the table)\, de Luis Contreras (Pollastre menja pollastre)\, algunes performances de Bartolomé Ferrando\, com aquella en què treia vísceres d’un globus terraqüi per trobar finalment la piruleta\, o aquella en què\, amb Pascu\, subhastava figuretes d’Snoopy que finalment acabaven destrossades pel martell sense comprador; la poesia fonètica de Nelo Vilar i Lucia Peiró\, el sarcasme de Rafael Santibáñez…”  Carlos Llavata (València)  Nascut el 1964. Artista visual i d’art d’acció. La seua formació artística comença a l’escola de ceràmica de Manises (1983- 87)\, passant després pel San Francisco Art Institute\, CA. EEUU (1989-91\, alumne no oficial). Primers contactes amb l’art d’acció.  Torna a la Facultat de Belles Arts de València\, on acaba després d’una estada a Holanda\, a la Gerrit Rietveld Academie d’Amsterdam entre 1999 i 2002. Allí treballa amb col·lectius com PSWAR Amsterdam y SIGN gallerie a Groningen.  Carlos ha fet 5 exposicions individuals i al voltant de 60 col·lectives i 6 conferències en diferents llocs del món. L’any 2003 comença a treballar com artista a La Sala Naranja (València). L’activitat professional i artística de Carlos Llavata data de l’any 1999\, quan comença una vida dedicada al seu treball artístic. L’escultura\, la ceràmica\, els gravats (monotipus\, serigrafies…)\, la fotografia\, el vídeo i la instal·lació són el seu univers material\, i és la performance o l’art d’acció l’estructura discursiva que entrellaça tota la taxonomia visual en el seu treball.
URL:https://octubre.cat/activitat/rodolfo-franco-brasil-raul-galvez-guardamar-del-segura-carlos-llavata-valencia/
LOCATION:No definit
CATEGORIES:Arrt d'Accció
ATTACH;FMTTYPE=image/jpeg:https://octubre.cat/www/wp-content/uploads/2020/07/activitat634.jpg
END:VEVENT
END:VCALENDAR