BEGIN:VCALENDAR
VERSION:2.0
PRODID:-//Octubre Centre de Cultura Contemporània - ECPv5.1.6//NONSGML v1.0//EN
CALSCALE:GREGORIAN
METHOD:PUBLISH
X-WR-CALNAME:Octubre Centre de Cultura Contemporània
X-ORIGINAL-URL:https://octubre.cat
X-WR-CALDESC:Events for Octubre Centre de Cultura Contemporània
BEGIN:VTIMEZONE
TZID:Europe/Andorra
BEGIN:DAYLIGHT
TZOFFSETFROM:+0100
TZOFFSETTO:+0200
TZNAME:CEST
DTSTART:20140330T010000
END:DAYLIGHT
BEGIN:STANDARD
TZOFFSETFROM:+0200
TZOFFSETTO:+0100
TZNAME:CET
DTSTART:20141026T010000
END:STANDARD
END:VTIMEZONE
BEGIN:VEVENT
DTSTART;TZID=Europe/Andorra:20140402T190000
DTEND;TZID=Europe/Andorra:20140402T190000
DTSTAMP:20260421T031053
CREATED:20200729T170401Z
LAST-MODIFIED:20200729T184411Z
UID:9729-1396465200-1396465200@octubre.cat
SUMMARY:Robots socials: punt de trobada entre ciència i ficció
DESCRIPTION:Dimecres 2 d’abril a les 19.00h. Conferència de Carme Torras dins del cicle “Científics lletraferits” organitzat per l’Espai Ciència  \n  \n  \n\n Conferència “Robots socials: punt de trobada entre ciència i ficció” a càrrec de Carme Torras\, professora d’investigació a l’Institut de Robòtica i Informàtica Industrial (CSIC-UPC) i escriptora
URL:https://octubre.cat/activitat/robots-socials-punt-de-trobada-entre-ciencia-i-ficcio/
CATEGORIES:Espai Ciència
ATTACH;FMTTYPE=image/jpeg:https://octubre.cat/www/wp-content/uploads/2020/07/activitat2024.jpg
END:VEVENT
END:VCALENDAR