BEGIN:VCALENDAR
VERSION:2.0
PRODID:-//Octubre Centre de Cultura Contemporània - ECPv5.1.6//NONSGML v1.0//EN
CALSCALE:GREGORIAN
METHOD:PUBLISH
X-WR-CALNAME:Octubre Centre de Cultura Contemporània
X-ORIGINAL-URL:https://octubre.cat
X-WR-CALDESC:Events for Octubre Centre de Cultura Contemporània
BEGIN:VTIMEZONE
TZID:Europe/Andorra
BEGIN:DAYLIGHT
TZOFFSETFROM:+0100
TZOFFSETTO:+0200
TZNAME:CEST
DTSTART:20090329T010000
END:DAYLIGHT
BEGIN:STANDARD
TZOFFSETFROM:+0200
TZOFFSETTO:+0100
TZNAME:CET
DTSTART:20091025T010000
END:STANDARD
END:VTIMEZONE
BEGIN:VEVENT
DTSTART;TZID=Europe/Andorra:20091114T160000
DTEND;TZID=Europe/Andorra:20091114T160000
DTSTAMP:20260420T164241
CREATED:20200729T182610Z
LAST-MODIFIED:20200729T182610Z
UID:12919-1258214400-1258214400@octubre.cat
SUMMARY:Richard Martel + Guy Sioui-Durand (Quebec) + Kai Lam (Singapur)
DESCRIPTION:Guy Sioui-Durand.  Programa  16.00h. Performance col·lectiva dels alumnes del taller. 18.00h. Conferència-acció de Guy Sioui-Durand: “Canviar els mots\, canviar el món”. 19.00h. Performance de Richard Martel + accions individuals dels alummnes del taller.  Guy Sioui-Durand és indi de la tribu Wendat (Huron) de Wendake (Quebec). És sociòleg crític (PH.D.) i comissari independent. L’art actual en general i l’art amerindi són els seus dominis d’intervenció. Cofundador de la revista Inter i de Le Lieu\, centre d’artistes amb Richard Martel\, ha publicat tres llibres\, entre ells L’art comme alternative (1997) i Riopelle. Indianité (2003).   Escriu per a diversos periòdics\, catàlegs i a Internet. Conseller autòcton d’Espace 400’ (Quebec 1608-2008)\, va participar l’abril de 2009 al Fòrum Teòric de la X Biennal de L’Havana (Cuba) i a la Delegació de conservadors autòctons del Canadà a la Biennal de Venècia\, el juny d’aquest mateix any. Guy Sioui-Durand crea “conferències-performance” en les que “canvia el món”.  http://www.siouidurand.org  Richard Martel (Bagotville\, 10 de juliol de 1950) és un artista multidisciplinar\, instal·lat al Quebec des de fa vint anys i que presenta regularment les seues activitats tant al seu país com a l’estranger. Actiu en diferents àmbits\, investiga les arts visuals\, principalment la instal·lació i la performance\, el vídeo\, la ràdio\, l’escriptura\, l’edició\, l’organització d’esdeveniments i l’ensenyament.   És membre fundador de les Éditions Intervention\, de les quals n’és\, a més\, coordinador. També es troba a l’origen de la revista Inter\, art actuel\, en la que hi participa com a redactor\, i de Le Lieu\, centre d’art actual (1982) amb el qual organitza l’Encontre Internacional d’art performance (RIAP) a Quebec. Compromès amb la pràctica i la teoria\, s’interessa en l’art com a sistema d’experimentació i de transgressió. L’art en tant que activitat de comportament poètic.  http://www.inter-lelieu.org/index.html  Kai Lam té com a centre d’operacions la ciutat de Singapur. Innovador incansable\, versàtil i prolífic en dibuix\, pintura\, escultura\, instal·lacions i performance\, Lam també col·labora amb produccions teatrals i coorganitza esdeveniments artístics. L’art és per a Kai Lam una eina que li permet comprendre millor l’ambient on viu alhora que possibilita una exploració de la vida i de la condició humana. Els seus treballs són al mateix temps una crítica social i una resposta creativa a una societat urbana plural. Lam parla de l’ésser humà com a híbrid\, de com les cultures subrogades prenen cos i es construeixen a través del procés de la performance per a servir a res ni a ningú. És un reiterat acte de resistència contra l’hegemonia cultural dominant que s’ha convertit en una màquina autoritària que oprimeix de manera sistemàtica la llibertat individual i restringeix la creativitat humana. Amb la seua obra\, busca articular els seus propis sistemes de representació i celebrar una humanitat que vol desempellugar-se de la seua existència perplexa i retornar a l’existència plural.
URL:https://octubre.cat/activitat/richard-martel-guy-sioui-durand-quebec-kai-lam-singapur/
LOCATION:No definit
CATEGORIES:Arrt d'Accció
ATTACH;FMTTYPE=image/jpeg:https://octubre.cat/www/wp-content/uploads/2020/07/activitat952.jpg
END:VEVENT
END:VCALENDAR