BEGIN:VCALENDAR
VERSION:2.0
PRODID:-//Octubre Centre de Cultura Contemporània - ECPv5.1.6//NONSGML v1.0//EN
CALSCALE:GREGORIAN
METHOD:PUBLISH
X-WR-CALNAME:Octubre Centre de Cultura Contemporània
X-ORIGINAL-URL:https://octubre.cat
X-WR-CALDESC:Events for Octubre Centre de Cultura Contemporània
BEGIN:VTIMEZONE
TZID:Europe/Andorra
BEGIN:DAYLIGHT
TZOFFSETFROM:+0100
TZOFFSETTO:+0200
TZNAME:CEST
DTSTART:20080330T010000
END:DAYLIGHT
BEGIN:STANDARD
TZOFFSETFROM:+0200
TZOFFSETTO:+0100
TZNAME:CET
DTSTART:20081026T010000
END:STANDARD
END:VTIMEZONE
BEGIN:VEVENT
DTSTART;TZID=Europe/Andorra:20081005T190000
DTEND;TZID=Europe/Andorra:20081005T190000
DTSTAMP:20260420T211459
CREATED:20200729T182046Z
LAST-MODIFIED:20200730T035844Z
UID:12687-1223233200-1223233200@octubre.cat
SUMMARY:Ricardo Belda Quartet
DESCRIPTION:Diumenge\, 6 d’octubre\, a les 19.00h: Ricardo Belda Quartet  \n  \n  \n\nRicardo Belda ha estat col·laborador del grup del guitarrista Ximo Tebar i ha realitzat gires amb músics com Johnny Griffin\, Sony Fortune\, Junior Cook\, Wallace Roney\, Jimmy Owens\, etc. Ha col·laborat en més de 30 discos i tres d’ells com a lider: “Habitación Blanca”\, “My Ideal” i “El Principio”.  Ricardo Belda: piano Joan Soler: guitarra Luis Llario: contrabaix Felipe Cucciardi: bateria
URL:https://octubre.cat/activitat/ricardo-belda-quartet/
LOCATION:No definit
CATEGORIES:Diumenges de Jazz!
ATTACH;FMTTYPE=image/jpeg:https://octubre.cat/www/wp-content/uploads/2020/07/musica1.jpg
END:VEVENT
END:VCALENDAR