BEGIN:VCALENDAR
VERSION:2.0
PRODID:-//Octubre Centre de Cultura Contemporània - ECPv5.1.6//NONSGML v1.0//EN
CALSCALE:GREGORIAN
METHOD:PUBLISH
X-WR-CALNAME:Octubre Centre de Cultura Contemporània
X-ORIGINAL-URL:https://octubre.cat
X-WR-CALDESC:Events for Octubre Centre de Cultura Contemporània
BEGIN:VTIMEZONE
TZID:Europe/Andorra
BEGIN:DAYLIGHT
TZOFFSETFROM:+0100
TZOFFSETTO:+0200
TZNAME:CEST
DTSTART:20150329T010000
END:DAYLIGHT
BEGIN:STANDARD
TZOFFSETFROM:+0200
TZOFFSETTO:+0100
TZNAME:CET
DTSTART:20151025T010000
END:STANDARD
END:VTIMEZONE
BEGIN:VEVENT
DTSTART;TZID=Europe/Andorra:20150105T000000
DTEND;TZID=Europe/Andorra:20150105T000000
DTSTAMP:20260421T134339
CREATED:20200729T170826Z
LAST-MODIFIED:20200730T041315Z
UID:10013-1420416000-1420416000@octubre.cat
SUMMARY:Retrospectiva de Renau a Rocafort
DESCRIPTION:Exposició de Josep Renau a la Casa de Cultura de Rocafort (Horta Nord). Del 4 de desembre al 5 de gener.  \n  \n  \n\n Del 4 de desembre de 2014 al 5 de gener de 2015 Casa de la Cultura de Rocafort (Carrer Major\, 15 – 46111 Rocafort)  La mostra de Josep Renau a Rocafort (Horta Nord) fa un repàs antològic de la seua producció amb 44 obres que recullen les seues sèries i treballs més significatius: cartells polítics i de publicitat\, cartells de cinema\, els fotomuntatges de The American Way of Life\, etc.  Organitzada per l’Ajuntament de Rocafort Col·laboren: Fundació Josep Renau i Octubre CCC
URL:https://octubre.cat/activitat/retrospectiva-de-renau-a-rocafort/
LOCATION:No definit
CATEGORIES:Activitats externes
ATTACH;FMTTYPE=image/jpeg:https://octubre.cat/www/wp-content/uploads/2020/07/activitat2210.jpg
END:VEVENT
END:VCALENDAR