BEGIN:VCALENDAR
VERSION:2.0
PRODID:-//Octubre Centre de Cultura Contemporània - ECPv5.1.6//NONSGML v1.0//EN
CALSCALE:GREGORIAN
METHOD:PUBLISH
X-WR-CALNAME:Octubre Centre de Cultura Contemporània
X-ORIGINAL-URL:https://octubre.cat
X-WR-CALDESC:Events for Octubre Centre de Cultura Contemporània
BEGIN:VTIMEZONE
TZID:Europe/Andorra
BEGIN:DAYLIGHT
TZOFFSETFROM:+0100
TZOFFSETTO:+0200
TZNAME:CEST
DTSTART:20170326T010000
END:DAYLIGHT
BEGIN:STANDARD
TZOFFSETFROM:+0200
TZOFFSETTO:+0100
TZNAME:CET
DTSTART:20171029T010000
END:STANDARD
BEGIN:DAYLIGHT
TZOFFSETFROM:+0100
TZOFFSETTO:+0200
TZNAME:CEST
DTSTART:20180325T010000
END:DAYLIGHT
BEGIN:STANDARD
TZOFFSETFROM:+0200
TZOFFSETTO:+0100
TZNAME:CET
DTSTART:20181028T010000
END:STANDARD
END:VTIMEZONE
BEGIN:VEVENT
DTSTART;TZID=Europe/Andorra:20171123T000000
DTEND;TZID=Europe/Andorra:20180107T000000
DTSTAMP:20260422T083722
CREATED:20200729T190209Z
LAST-MODIFIED:20200904T160123Z
UID:13275-1511395200-1515283200@octubre.cat
SUMMARY:'Retrats d’intel·lectuals'. Andrés Castillo reviu el Congrés de 1987
DESCRIPTION:Andrés Castillo reviu el Congrés Internacional d’Intel·lectuals i Artistes de València (1987). \nInauguració: dijous 23 de novembre a les 19.00h. \nEn l’acte d’inauguració se celebrarà una taula rodona amb les intervencions de Joan Álvarez\, Jesús Huguet i Ignasi Riera (més informació). \n“La fúria de Castoriadis\, l’intent balsàmic de Fernando Claudin\, els fulls tergiversats de Gil-Albert\, l’apassionament de Peter Burke i l’escepticisme de Joan Fuster\, la discussió Semprún-Manolo Aznar\, l’aixella irritada de Cohn Bendit\, l’empatia voluntariosa de Vargas Llosa\, la lucidesa interrogativa de Vázquez Montalbán o el maternal Goytisolo amb els seus rebels marroquins\, la mirada infinita de Pilar Miró\, la poètica bonhomia de Stephen Spender o l’intent superador de la història d’Octavio Paz\, l’olfacte gasetiller de Giovanni Levi o Juan Luís Cebrián\, la cubanitat dels escriptors de l’illa i la de Cabrera Infante i la de Martha Frayde\, Rosa Chacel entre poetes i idees. Abraham Andre Moles o Jorge Edwards miren més enllà del que els ulls disposen mentre Juan Cueto furoneja. Què diria Juan Goytisolo perquè Pérez Benlloch el mirara així? La mirada maarinera de Carlos Barral i la interrogació arquitectònica de Portaceli. La ciutat de Miquel Navarro és Carmen Alborch? Enrique Múgica i Ignacio Sotelo parlen de socialisme vigent? I José Saramago i Vázquez Montalbán de marxisme latent? Antonio Tabucci i Ebba Haslund no son dos efígies\, són pereires permanents. Ètica i política poden dissociar-se\, Ciprià\, Cèlia? La poesia s’anomena Brines\, Siles i Molina Foix? I la revolta Pitarch\, Garcés\, Ricard Blasco? Hom pot adonar-se’n que entre Gala i Salvador Clotas sura l’interrogant infinita. Arroyo i Andreu Alfaro posen límits a la inèpcia. Raimon canta cançons per después de una guerra?. En eixe Congrés mai no es podia arribar a les mans perquè les paraules\, quan més exactes\, més punys hi eren\, i perquè darrere de tot hi era el fum hipnòtic de Ricardo Muñoz Suay. I l’ull il·luminat d’Andrés Castillo”\n[Text de Jesús Huguet]. \nUna producció de l’Octubre CCC\nMostra organitzada per Presidència de la Generalitat Valenciana amb motiu dels actes commemoratius del 80 aniversari del II Congrés Internacional d’Escriptors per a la Defensa de la Cultura\nCol·labora: Acció Cultural del País Valencià\nFotografies: Andrés Castillo\nTextos: Jesús Huguet\nDisseny i muntatge: Matra Museografia\nProducció de les imatges: Estudi Paco Mora
URL:https://octubre.cat/activitat/retrats-dintellectuals-andres-castillo-reviu-el-congres-de-1987/
LOCATION:Hall
CATEGORIES:Exposicions
ATTACH;FMTTYPE=image/jpeg:https://octubre.cat/www/wp-content/uploads/2020/07/activitat2915.jpg
END:VEVENT
END:VCALENDAR