BEGIN:VCALENDAR
VERSION:2.0
PRODID:-//Octubre Centre de Cultura Contemporània - ECPv5.1.6//NONSGML v1.0//EN
CALSCALE:GREGORIAN
METHOD:PUBLISH
X-WR-CALNAME:Octubre Centre de Cultura Contemporània
X-ORIGINAL-URL:https://octubre.cat
X-WR-CALDESC:Events for Octubre Centre de Cultura Contemporània
BEGIN:VTIMEZONE
TZID:Europe/Andorra
BEGIN:DAYLIGHT
TZOFFSETFROM:+0100
TZOFFSETTO:+0200
TZNAME:CEST
DTSTART:20090329T010000
END:DAYLIGHT
BEGIN:STANDARD
TZOFFSETFROM:+0200
TZOFFSETTO:+0100
TZNAME:CET
DTSTART:20091025T010000
END:STANDARD
END:VTIMEZONE
BEGIN:VEVENT
DTSTART;TZID=Europe/Andorra:20090526T193000
DTEND;TZID=Europe/Andorra:20090526T193000
DTSTAMP:20260420T215550
CREATED:20200729T182503Z
LAST-MODIFIED:20200729T182503Z
UID:12856-1243366200-1243366200@octubre.cat
SUMMARY:Requisit lingüístic valencià: és ja l'hora?
DESCRIPTION:Dimarts 26 de maig\, a les 19.30h: Taula rodona “Requisit lingüístic valencià: és ja l’hora?”\, amb la intervenció de Francesc Calatayud (EU)\, Mònica Oltra (Iniciativa pel Poble Valencià)\, Agustí Cerdà (ERPV)\, Enric Morera (Bloc)\, Vicenta Crespo (PSPV-PSOE) i Eliseu Climent\, president d’ACPV.   \n  \n  \n\nTaula rodona Requisit lingüístic valencià: és ja l’hora?  Vint-i-cinc anys després de la promulgació de la Llei d’ús i ensenyament del valencià (LUEV) som l’únic territori amb llengua pròpia que no exigeix el requisit lingüístic en les proves de selecció per a l’administració. Cal incloure’l ara en la nova Llei de la funció pública valenciana?  Hi intervindran:   Francesc Calatayud Arráez\, membre de la direcció d’Esquerra Unida.  Mònica Oltra\, portaveu d’Iniciativa pel Poble Valencià i diputada a les Corts Valencianes.  Agustí Cerdà\, president d’Esquerra Republicana del País Valencià (ERPV).  Enric Morera\, president del Bloc Nacionalista Valencià (BNV) i diputat a les Corts Valencianes.   Vicenta Crespo\, membre de la Comissió de Política Lingüística del PSPV-PSOE i diputada a les Corts Valencianes.   Eliseu Climent\, president d’Acció Cultural del País Valencià (ACPV).  Presenta i modera l’acte:   Alfons Esteve\, cap tècnic del Servei de Política Lingüística de la Universitat de València i membre de l’Institut de Política Lingüística d’ACPV.
URL:https://octubre.cat/activitat/requisit-linguistic-valencia-es-ja-lhora/
LOCATION:No definit
CATEGORIES:Conferències i congressos
ATTACH;FMTTYPE=image/jpeg:https://octubre.cat/www/wp-content/uploads/2020/07/activitat886.jpg
END:VEVENT
END:VCALENDAR