BEGIN:VCALENDAR
VERSION:2.0
PRODID:-//Octubre Centre de Cultura Contemporània - ECPv5.1.6//NONSGML v1.0//EN
CALSCALE:GREGORIAN
METHOD:PUBLISH
X-WR-CALNAME:Octubre Centre de Cultura Contemporània
X-ORIGINAL-URL:https://octubre.cat
X-WR-CALDESC:Events for Octubre Centre de Cultura Contemporània
BEGIN:VTIMEZONE
TZID:Europe/Andorra
BEGIN:DAYLIGHT
TZOFFSETFROM:+0100
TZOFFSETTO:+0200
TZNAME:CEST
DTSTART:20150329T010000
END:DAYLIGHT
BEGIN:STANDARD
TZOFFSETFROM:+0200
TZOFFSETTO:+0100
TZNAME:CET
DTSTART:20151025T010000
END:STANDARD
END:VTIMEZONE
BEGIN:VEVENT
DTSTART;TZID=Europe/Andorra:20150121T190000
DTEND;TZID=Europe/Andorra:20150121T190000
DTSTAMP:20260422T031756
CREATED:20200729T170841Z
LAST-MODIFIED:20200902T162739Z
UID:10029-1421866800-1421866800@octubre.cat
SUMMARY:'Réquiem nuclear'\, de Sonia Llera
DESCRIPTION:  \n\nDimecres 21 de gener a les 19.00h. Projecció inclosa dins del Cicle de Cinema Social. Entrada lliure \n \n\nEl documental conta la història de l’energia nuclear a Espanya i el naixement de la lluita antinuclear. Inclou la intervenció de diversos especialistes en l’energia i els seus riscos\, com també de les energies renovables. Alhora\, fa pedagogia i tracta de conscienciar sobre la necessitat de tancar les centrals nuclears en acomplir la seua vida útil. Direcció: Sonia Llera (2014) Producció: Ecozine Basat en l’obra El paraíso estancado\, de Mario Gaviria i José María Perea Soro Entrada lliure Organitzat amb la col·laboració d’El Cine Social Coordinació del cicle: Antonio Lloréns
URL:https://octubre.cat/activitat/requiem-nuclear-de-sonia-llera/
LOCATION:Sala d’actes
CATEGORIES:Cicle de cinema social
ATTACH;FMTTYPE=image/jpeg:https://octubre.cat/www/wp-content/uploads/2020/07/activitat2228.jpg
END:VEVENT
END:VCALENDAR