BEGIN:VCALENDAR
VERSION:2.0
PRODID:-//Octubre Centre de Cultura Contemporània - ECPv5.1.6//NONSGML v1.0//EN
CALSCALE:GREGORIAN
METHOD:PUBLISH
X-WR-CALNAME:Octubre Centre de Cultura Contemporània
X-ORIGINAL-URL:https://octubre.cat
X-WR-CALDESC:Events for Octubre Centre de Cultura Contemporània
BEGIN:VTIMEZONE
TZID:Europe/Andorra
BEGIN:DAYLIGHT
TZOFFSETFROM:+0100
TZOFFSETTO:+0200
TZNAME:CEST
DTSTART:20100328T010000
END:DAYLIGHT
BEGIN:STANDARD
TZOFFSETFROM:+0200
TZOFFSETTO:+0100
TZNAME:CET
DTSTART:20101031T010000
END:STANDARD
END:VTIMEZONE
BEGIN:VEVENT
DTSTART;TZID=Europe/Andorra:20100114T193000
DTEND;TZID=Europe/Andorra:20100114T193000
DTSTAMP:20260420T170037
CREATED:20200729T164650Z
LAST-MODIFIED:20260104T172927Z
UID:8690-1263497400-1263497400@octubre.cat
SUMMARY:Cayo Lara. República i model d'Estat: Visions des de l'esquerra
DESCRIPTION:Conferència “República i model d’Estat: Visions des de l’esquerra” a càrrec de Cayo Lara\, coordinador general d’Esquerra Unida. \nCayo Lara (Argamasilla de Alba\, Ciutat Reial\, 1952)\, coordinador general d’Esquerra Unida Federal des de 2008. Agricultor de professió\, va ser un dels impulsors del sindicat COAG i alcalde d’Argamasilla de Alba entre 1987 i 1999. Des de 2000 va ocupar la coordinació general d’IU de Castella la Manxa. Va destacar a la seua regió per la seua lluita a favor d’una llei electoral més democràtica i per fer front a l’especulació urbanística. Fou elegit coordinador general d’IU pel Consell Polític Federal el desembre de 2008 amb el suport de 92 dels seus membres.
URL:https://octubre.cat/activitat/republica-i-model-destat-visions-des-de-lesquerra/
LOCATION:No definit
CATEGORIES:Tribuna
ATTACH;FMTTYPE=image/jpeg:https://octubre.cat/www/wp-content/uploads/2020/07/activitat1034.jpg
END:VEVENT
END:VCALENDAR