BEGIN:VCALENDAR
VERSION:2.0
PRODID:-//Octubre Centre de Cultura Contemporània - ECPv5.1.6//NONSGML v1.0//EN
CALSCALE:GREGORIAN
METHOD:PUBLISH
X-WR-CALNAME:Octubre Centre de Cultura Contemporània
X-ORIGINAL-URL:https://octubre.cat
X-WR-CALDESC:Events for Octubre Centre de Cultura Contemporània
BEGIN:VTIMEZONE
TZID:Europe/Andorra
BEGIN:DAYLIGHT
TZOFFSETFROM:+0100
TZOFFSETTO:+0200
TZNAME:CEST
DTSTART:20090329T010000
END:DAYLIGHT
BEGIN:STANDARD
TZOFFSETFROM:+0200
TZOFFSETTO:+0100
TZNAME:CET
DTSTART:20091025T010000
END:STANDARD
END:VTIMEZONE
BEGIN:VEVENT
DTSTART;TZID=Europe/Andorra:20091105T190000
DTEND;TZID=Europe/Andorra:20091105T190000
DTSTAMP:20260420T194137
CREATED:20200729T182530Z
LAST-MODIFIED:20200729T182530Z
UID:12882-1257447600-1257447600@octubre.cat
SUMMARY:Refugis de la Nomenklatura
DESCRIPTION:Dijous 5 de novembre a les 19.00h: conferència “Refugis de la Nomenklatura”\, a càrrec del periodista Llibert Ferri  \n  \n  \n\n“Refugis de la Nomenklatura”\, a càrrec de Llibert Ferri\, periodista especialitzat en l’Europa postcomunista.  Llibert Ferri\, periodista i excorresponsal i enviat especial de TV3 a l’URSS i Europa oriental\, coordinador d’aquest cicle de conferències\, és columnista habitual en el setmanari d’informació general El Temps i a més\, és autor dels llibres Memòria del fred. Cròniques d’una transició (Empúries\, 2006)\, en què fa un recorregut de la Rússia de Ieltsin a la de Putin i de l’àrea d’influència de l’Europa de l’est i L’esclat de l’est (Eumo Editorial\, 2008)\, on intenta oferir\, de manera entenedora\, les claus polítiques d’un dels processos més complexos del segle XX\, la caiguda del comunisme a Europa.
URL:https://octubre.cat/activitat/refugis-de-la-nomenklatura/
LOCATION:No definit
CATEGORIES:Cicle '20 anys sense el Mur'
ATTACH;FMTTYPE=image/jpeg:https://octubre.cat/www/wp-content/uploads/2020/07/activitat914.jpg
END:VEVENT
END:VCALENDAR