BEGIN:VCALENDAR
VERSION:2.0
PRODID:-//Octubre Centre de Cultura Contemporània - ECPv5.1.6//NONSGML v1.0//EN
CALSCALE:GREGORIAN
METHOD:PUBLISH
X-WR-CALNAME:Octubre Centre de Cultura Contemporània
X-ORIGINAL-URL:https://octubre.cat
X-WR-CALDESC:Events for Octubre Centre de Cultura Contemporània
BEGIN:VTIMEZONE
TZID:Europe/Andorra
BEGIN:DAYLIGHT
TZOFFSETFROM:+0100
TZOFFSETTO:+0200
TZNAME:CEST
DTSTART:20150329T010000
END:DAYLIGHT
BEGIN:STANDARD
TZOFFSETFROM:+0200
TZOFFSETTO:+0100
TZNAME:CET
DTSTART:20151025T010000
END:STANDARD
END:VTIMEZONE
BEGIN:VEVENT
DTSTART;TZID=Europe/Andorra:20151110T190000
DTEND;TZID=Europe/Andorra:20151110T190000
DTSTAMP:20260422T083650
CREATED:20200729T171355Z
LAST-MODIFIED:20200730T041552Z
UID:10362-1447182000-1447182000@octubre.cat
SUMMARY:“Refugiats i vulneració del dret d’asil'
DESCRIPTION:Dimarts 10 de novembre a les 19.00h\, amb Isaura Navarro\, Jaume Durà i Sami Shihadeh.  \n  \n  \n\n “Refugiats i vulneració del dret d’asil: les repercussions sanitàries i humanitàries”  Amb les intervencions de:   —Isaura Navarro\, advocada i membre de la Comissió de Sanitat de les Corts Valencianes —Jaume Durà\, advocat i coordinador territorial de la Comissió d’Ajuda al Refugiat (CEAR-PV) —Sami Shihadeh\, refugiat sirià  Organitzat per la Societat Valenciana de Ciències de la Salut “Joan B. Peset” amb la col·laboració d’Acció Cultural del País Valencià i la Comissió d’Ajuda al Refugiat (CEAR-PV).
URL:https://octubre.cat/activitat/refugiats-i-vulneracio-del-dret-dasil/
CATEGORIES:Conferències i congressos
ATTACH;FMTTYPE=image/jpeg:https://octubre.cat/www/wp-content/uploads/2020/07/activitat2426.jpg
END:VEVENT
END:VCALENDAR