BEGIN:VCALENDAR
VERSION:2.0
PRODID:-//Octubre Centre de Cultura Contemporània - ECPv5.1.6//NONSGML v1.0//EN
CALSCALE:GREGORIAN
METHOD:PUBLISH
X-WR-CALNAME:Octubre Centre de Cultura Contemporània
X-ORIGINAL-URL:https://octubre.cat
X-WR-CALDESC:Events for Octubre Centre de Cultura Contemporània
BEGIN:VTIMEZONE
TZID:Europe/Andorra
BEGIN:DAYLIGHT
TZOFFSETFROM:+0100
TZOFFSETTO:+0200
TZNAME:CEST
DTSTART:20130331T010000
END:DAYLIGHT
BEGIN:STANDARD
TZOFFSETFROM:+0200
TZOFFSETTO:+0100
TZNAME:CET
DTSTART:20131027T010000
END:STANDARD
END:VTIMEZONE
BEGIN:VEVENT
DTSTART;TZID=Europe/Andorra:20131108T193000
DTEND;TZID=Europe/Andorra:20131108T193000
DTSTAMP:20260421T090624
CREATED:20200729T170221Z
LAST-MODIFIED:20200729T184239Z
UID:9632-1383939000-1383939000@octubre.cat
SUMMARY:Reforma de l'Administració Local: quina reforma volen fer?
DESCRIPTION:Divendres 8 de novembre a les 19.30h. Debat sobre el projecte de llei de racionalització i sostenibilitat de l’administració local\, organitzat per la Sectorial de Benestar Social de Compromís  \n  \n  \n\n Projecte de llei de racionalització i sostenibilitat de l’administració local Quina reforma volen fer?  Ponents: —Xavier Uceda\, professor de la Facultat de Ciències Socials de la Universitat de València —Mireia Mollà\, diputada a les Corts Valencianes —Amparo Moreno\, directora d’Acció Social de Càritas València —Julio Conesa\, responsable d’Administració Local de CCOO del PV —Paqui Ruiz\, del Col·legi Oficial de Treball Social de València —Reyes Matamales\, de la Sectorial de Benestar Social de Compromís  Informació sense manipulació. Debats participatius Organitzat per la Sectorial de Benestar Social del grup Compromís
URL:https://octubre.cat/activitat/reforma-de-ladministracio-local-quina-reforma-volen-fer/
CATEGORIES:Conferències i congressos
ATTACH;FMTTYPE=image/jpeg:https://octubre.cat/www/wp-content/uploads/2020/07/activitat1919.jpg
END:VEVENT
END:VCALENDAR