BEGIN:VCALENDAR
VERSION:2.0
PRODID:-//Octubre Centre de Cultura Contemporània - ECPv5.1.6//NONSGML v1.0//EN
CALSCALE:GREGORIAN
METHOD:PUBLISH
X-WR-CALNAME:Octubre Centre de Cultura Contemporània
X-ORIGINAL-URL:https://octubre.cat
X-WR-CALDESC:Events for Octubre Centre de Cultura Contemporània
BEGIN:VTIMEZONE
TZID:Europe/Andorra
BEGIN:DAYLIGHT
TZOFFSETFROM:+0100
TZOFFSETTO:+0200
TZNAME:CEST
DTSTART:20080330T010000
END:DAYLIGHT
BEGIN:STANDARD
TZOFFSETFROM:+0200
TZOFFSETTO:+0100
TZNAME:CET
DTSTART:20081026T010000
END:STANDARD
END:VTIMEZONE
BEGIN:VEVENT
DTSTART;TZID=Europe/Andorra:20080424T193000
DTEND;TZID=Europe/Andorra:20080424T193000
DTSTAMP:20260421T152025
CREATED:20200729T181704Z
LAST-MODIFIED:20200730T035611Z
UID:12467-1209065400-1209065400@octubre.cat
SUMMARY:Reemergència de les infeccions de transmissió sexual al segle XXI
DESCRIPTION:Dijous 24\, 19.30h.  Conferència a càrrec del doctor Martí Vall i Mayans\, de la Unitat d’Infeccions de Transmissió Sexual (Centre d’Atenció Primària Drassanes\, Institut Català de la Salut)   \n  \n  \n\nConferència a càrrec del doctor Martí Vall i Mayans\, de la Unitat d’Infeccions de Transmissió Sexual (Centre d’Atenció Primària Drassanes\, Institut Català de la Salut)  Entrada lliure
URL:https://octubre.cat/activitat/reemergencia-de-les-infeccions-de-transmissio-sexual-al-segle-xxi/
LOCATION:No definit
CATEGORIES:Societat Valenciana de Ciències de la Salut
ATTACH;FMTTYPE=image/jpeg:https://octubre.cat/www/wp-content/uploads/2020/07/conferencia1.jpg
END:VEVENT
END:VCALENDAR