BEGIN:VCALENDAR
VERSION:2.0
PRODID:-//Octubre Centre de Cultura Contemporània - ECPv5.1.6//NONSGML v1.0//EN
CALSCALE:GREGORIAN
METHOD:PUBLISH
X-WR-CALNAME:Octubre Centre de Cultura Contemporània
X-ORIGINAL-URL:https://octubre.cat
X-WR-CALDESC:Events for Octubre Centre de Cultura Contemporània
BEGIN:VTIMEZONE
TZID:Europe/Andorra
BEGIN:DAYLIGHT
TZOFFSETFROM:+0100
TZOFFSETTO:+0200
TZNAME:CEST
DTSTART:20180325T010000
END:DAYLIGHT
BEGIN:STANDARD
TZOFFSETFROM:+0200
TZOFFSETTO:+0100
TZNAME:CET
DTSTART:20181028T010000
END:STANDARD
END:VTIMEZONE
BEGIN:VEVENT
DTSTART;TZID=Europe/Andorra:20180615T200000
DTEND;TZID=Europe/Andorra:20180615T200000
DTSTAMP:20260421T174456
CREATED:20200729T173043Z
LAST-MODIFIED:20200729T190850Z
UID:11227-1529092800-1529092800@octubre.cat
SUMMARY:Record i homenatge a Vicent Esteve
DESCRIPTION:Divendres 15 de juny a les 20.00h. Organitzat per Escola Valenciana\, Acció Cultural del País Valencià i el Sindicat de Treballadors de l’Ensenyament del País Valencià.	 \n  \n  \n\n 	 Record i homenatge a Vicent Esteve i Montalvà\, mestre i sindicalista valencià mort recentment.  Organitzat per Escola Valenciana\, Acció Cultural del País Valencià i el Sindicat de Treballadors de l’Ensenyament del País Valencià.
URL:https://octubre.cat/activitat/record-i-homenatge-a-vicent-esteve/
CATEGORIES:Literatura
ATTACH;FMTTYPE=image/jpeg:https://octubre.cat/www/wp-content/uploads/2020/07/activitat3067.jpg
END:VEVENT
END:VCALENDAR