BEGIN:VCALENDAR
VERSION:2.0
PRODID:-//Octubre Centre de Cultura Contemporània - ECPv5.1.6//NONSGML v1.0//EN
CALSCALE:GREGORIAN
METHOD:PUBLISH
X-WR-CALNAME:Octubre Centre de Cultura Contemporània
X-ORIGINAL-URL:https://octubre.cat
X-WR-CALDESC:Events for Octubre Centre de Cultura Contemporània
BEGIN:VTIMEZONE
TZID:Europe/Andorra
BEGIN:DAYLIGHT
TZOFFSETFROM:+0100
TZOFFSETTO:+0200
TZNAME:CEST
DTSTART:20130331T010000
END:DAYLIGHT
BEGIN:STANDARD
TZOFFSETFROM:+0200
TZOFFSETTO:+0100
TZNAME:CET
DTSTART:20131027T010000
END:STANDARD
END:VTIMEZONE
BEGIN:VEVENT
DTSTART;TZID=Europe/Andorra:20130507T190000
DTEND;TZID=Europe/Andorra:20130507T190000
DTSTAMP:20260424T015141
CREATED:20200729T170028Z
LAST-MODIFIED:20200729T184111Z
UID:9529-1367953200-1367953200@octubre.cat
SUMMARY:Recital poètic 'Primavera valenciana'\, per Emili Olmos
DESCRIPTION:Dimarts 7 de maig a les 19.00h\, a càrrec d’Emili Olmos  \n  \n  \n\n Primavera Valenciana és un projecte poètic que naix paral·lel al desenvolupament d’aquest moviment estudiantil. Quasi tots els poemes estan inspirats en una foto de la premsa que apareix al poema tot reflectint la brutalitat policial i la mirada o posat de manifestants. És un crit de protesta i reflexió.  Emili Olmos i Pasqual nasqué a València (L’Horta) al 1954 i treballa des del 1985 al col·legi Les Carolines de Picassent com a professor de Socials en Secundària. Porta més de 30 anys escrivint poesia\, també ha fet alguna novel·la però només té publicat un conte poètic Nits de sal groga.  La presentació anirà a càrrec de Sònia Casquete.
URL:https://octubre.cat/activitat/recital-poetic-primavera-valenciana-per-emili-olmos/
LOCATION:Sala d’actes
CATEGORIES:Literatura
ATTACH;FMTTYPE=image/jpeg:https://octubre.cat/www/wp-content/uploads/2020/07/activitat1785.jpg
END:VEVENT
END:VCALENDAR