BEGIN:VCALENDAR
VERSION:2.0
PRODID:-//Octubre Centre de Cultura Contemporània - ECPv5.1.6//NONSGML v1.0//EN
CALSCALE:GREGORIAN
METHOD:PUBLISH
X-WR-CALNAME:Octubre Centre de Cultura Contemporània
X-ORIGINAL-URL:https://octubre.cat
X-WR-CALDESC:Events for Octubre Centre de Cultura Contemporània
BEGIN:VTIMEZONE
TZID:Europe/Andorra
BEGIN:DAYLIGHT
TZOFFSETFROM:+0100
TZOFFSETTO:+0200
TZNAME:CEST
DTSTART:20130331T010000
END:DAYLIGHT
BEGIN:STANDARD
TZOFFSETFROM:+0200
TZOFFSETTO:+0100
TZNAME:CET
DTSTART:20131027T010000
END:STANDARD
END:VTIMEZONE
BEGIN:VEVENT
DTSTART;TZID=Europe/Andorra:20130307T193000
DTEND;TZID=Europe/Andorra:20130307T193000
DTSTAMP:20260422T175105
CREATED:20200729T165940Z
LAST-MODIFIED:20200729T184030Z
UID:9484-1362684600-1362684600@octubre.cat
SUMMARY:Recital poètic amb motiu del '8 de  Març'
DESCRIPTION:Dijous 7 de març a les 19.30h. Dia Internacional de la Dona. Recital oganitzat per l’Associació d’Escriptors en Llengua Catalana  \n  \n  \n\nDia Internacional de les Dones   Amb Lorena Cayuela Bibiana Collado Susanna Lliberós Rosa Roig  Coordina: Isabel Robles  Organitzat per l’AELC
URL:https://octubre.cat/activitat/recital-poetic-amb-motiu-del-8-de-marc/
LOCATION:No definit
CATEGORIES:Escriptors al terrat
ATTACH;FMTTYPE=image/jpeg:https://octubre.cat/www/wp-content/uploads/2020/07/llibres1.jpg
END:VEVENT
END:VCALENDAR