BEGIN:VCALENDAR
VERSION:2.0
PRODID:-//Octubre Centre de Cultura Contemporània - ECPv5.1.6//NONSGML v1.0//EN
CALSCALE:GREGORIAN
METHOD:PUBLISH
X-WR-CALNAME:Octubre Centre de Cultura Contemporània
X-ORIGINAL-URL:https://octubre.cat
X-WR-CALDESC:Events for Octubre Centre de Cultura Contemporània
BEGIN:VTIMEZONE
TZID:Europe/Andorra
BEGIN:DAYLIGHT
TZOFFSETFROM:+0100
TZOFFSETTO:+0200
TZNAME:CEST
DTSTART:20110327T010000
END:DAYLIGHT
BEGIN:STANDARD
TZOFFSETFROM:+0200
TZOFFSETTO:+0100
TZNAME:CET
DTSTART:20111030T010000
END:STANDARD
END:VTIMEZONE
BEGIN:VEVENT
DTSTART;TZID=Europe/Andorra:20110603T160000
DTEND;TZID=Europe/Andorra:20110603T160000
DTSTAMP:20260422T160653
CREATED:20200729T165546Z
LAST-MODIFIED:20200730T042835Z
UID:9250-1307116800-1307116800@octubre.cat
SUMMARY:Recepció dels IV Jocs Taronja 2011
DESCRIPTION:Divendres 3 de juny a partir de les 16.00h. Recepció dels participants. Organitzat pel Club Esportiu Samarucs.  \n  \n  \n\nRecepció i inscripció dels participants en els IV Jocs Taronja 2011\, organitzats pel Club Esportiu Samarucs. Animació\, música\, etc. A partir de les 16.00h i fins el tancament del Centre.
URL:https://octubre.cat/activitat/recepcio-dels-iv-jocs-taronja-2011/
LOCATION:No definit
CATEGORIES:Literatura
ATTACH;FMTTYPE=image/jpeg:https://octubre.cat/www/wp-content/uploads/2020/07/activitat1479.jpg
END:VEVENT
END:VCALENDAR