BEGIN:VCALENDAR
VERSION:2.0
PRODID:-//Octubre Centre de Cultura Contemporània - ECPv5.1.6//NONSGML v1.0//EN
CALSCALE:GREGORIAN
METHOD:PUBLISH
X-WR-CALNAME:Octubre Centre de Cultura Contemporània
X-ORIGINAL-URL:https://octubre.cat
X-WR-CALDESC:Events for Octubre Centre de Cultura Contemporània
BEGIN:VTIMEZONE
TZID:Europe/Andorra
BEGIN:DAYLIGHT
TZOFFSETFROM:+0100
TZOFFSETTO:+0200
TZNAME:CEST
DTSTART:20120325T010000
END:DAYLIGHT
BEGIN:STANDARD
TZOFFSETFROM:+0200
TZOFFSETTO:+0100
TZNAME:CET
DTSTART:20121028T010000
END:STANDARD
END:VTIMEZONE
BEGIN:VEVENT
DTSTART;TZID=Europe/Andorra:20121219T190000
DTEND;TZID=Europe/Andorra:20121219T190000
DTSTAMP:20260421T072327
CREATED:20200729T165849Z
LAST-MODIFIED:20200729T183943Z
UID:9433-1355943600-1355943600@octubre.cat
SUMMARY:'Raval\, raval'\, d'Antoni Verdaguer
DESCRIPTION:Dimecres 19 de desembre a les 19.00h: projecció del film d’Antoni Verdaguer dins del cicle de cinema “Barcelona escenari”. Entrada lliure  \n  \n  \n\n Projecció presentada per Antoni Verdaguer (director)  El barri del Raval de Barcelona és l’escenari on tots els conflictes de la ciutat contemporània es posen en joc. És un film coral\, una mirada d’autor\, directa\, una història de ficció en clau documental sobre la vida quotidiana del barri\, les petites històries dels seus habitants.  Organitzat per l’Octubre CCC amb el patrocini de l’Institut de Cultura de Barcelona  Entrada lliure
URL:https://octubre.cat/activitat/raval-raval-dantoni-verdaguer/
LOCATION:No definit
CATEGORIES:Barcelona escenari 2012 (cinema)
ATTACH;FMTTYPE=image/jpeg:https://octubre.cat/www/wp-content/uploads/2020/07/activitat1683.jpg
END:VEVENT
END:VCALENDAR