BEGIN:VCALENDAR
VERSION:2.0
PRODID:-//Octubre Centre de Cultura Contemporània - ECPv5.1.6//NONSGML v1.0//EN
CALSCALE:GREGORIAN
METHOD:PUBLISH
X-WR-CALNAME:Octubre Centre de Cultura Contemporània
X-ORIGINAL-URL:https://octubre.cat
X-WR-CALDESC:Events for Octubre Centre de Cultura Contemporània
BEGIN:VTIMEZONE
TZID:Europe/Andorra
BEGIN:DAYLIGHT
TZOFFSETFROM:+0100
TZOFFSETTO:+0200
TZNAME:CEST
DTSTART:20100328T010000
END:DAYLIGHT
BEGIN:STANDARD
TZOFFSETFROM:+0200
TZOFFSETTO:+0100
TZNAME:CET
DTSTART:20101031T010000
END:STANDARD
END:VTIMEZONE
BEGIN:VEVENT
DTSTART;TZID=Europe/Andorra:20101118T223000
DTEND;TZID=Europe/Andorra:20101118T223000
DTSTAMP:20260420T165719
CREATED:20200729T165202Z
LAST-MODIFIED:20200730T042621Z
UID:9017-1290119400-1290119400@octubre.cat
SUMMARY:Ratolines
DESCRIPTION:Dijous 18 de novembre\, a les 22.30h: Cicle “Melodies animades”. Ratolines (València).   \n  \n  \n\nAbans coneguda com Experiment little mouses\, aquesta formació d’Alcàsser va començar la seua trajectòria com a quintet el 2006\, any en què enregistraren la seua primera maqueta. A finals de 2008\, aconseguiren formar una banda estable i amb major projecció i repercussió.   El 2009\, foren seleccionats per segona vegada per al concurs Proyecto demo\, resultant guanyadors per davant d’altres 600 maquetes. Aquest fet els va portar a actuar al FIB 09 i participar en les Muzikalia Sessions del FNAC de Madrid i Barcelona\, alhora que els va permetre realitzar el videoclip d’un dels seus èxits “SausalitoRioMarsella”.   Des de llavors\, no han parat d’actuar i un dels seus temes fou inclòs en la tercera edició de Mundo submarino\, un CD amb temes de bandes valencianes emergents editat per Tranquilo Música i Absolute Beginners.
URL:https://octubre.cat/activitat/ratolines/
LOCATION:No definit
CATEGORIES:Cicle de música pop
ATTACH;FMTTYPE=image/jpeg:https://octubre.cat/www/wp-content/uploads/2020/07/activitat1299.jpg
END:VEVENT
END:VCALENDAR