BEGIN:VCALENDAR
VERSION:2.0
PRODID:-//Octubre Centre de Cultura Contemporània - ECPv5.1.6//NONSGML v1.0//EN
CALSCALE:GREGORIAN
METHOD:PUBLISH
X-WR-CALNAME:Octubre Centre de Cultura Contemporània
X-ORIGINAL-URL:https://octubre.cat
X-WR-CALDESC:Events for Octubre Centre de Cultura Contemporània
BEGIN:VTIMEZONE
TZID:Europe/Andorra
BEGIN:DAYLIGHT
TZOFFSETFROM:+0100
TZOFFSETTO:+0200
TZNAME:CEST
DTSTART:20180325T010000
END:DAYLIGHT
BEGIN:STANDARD
TZOFFSETFROM:+0200
TZOFFSETTO:+0100
TZNAME:CET
DTSTART:20181028T010000
END:STANDARD
END:VTIMEZONE
BEGIN:VEVENT
DTSTART;TZID=Europe/Andorra:20181221T203000
DTEND;TZID=Europe/Andorra:20181221T203000
DTSTAMP:20260421T072326
CREATED:20200729T173228Z
LAST-MODIFIED:20200729T191017Z
UID:11333-1545424200-1545424200@octubre.cat
SUMMARY:Rascanya presenten "Auia"
DESCRIPTION:Divendres 21 de desembre a les 20.30h. La presentació anirà a càrrec d’Amàlia Garrigós i Miquel Gil.	 \n  \n  \n\n 	 La presentació anirà a càrrec d’Amàlia Garrigós i Miquel Gil.  Auia (Segell Microscopi 2018)\, és el nou CD del grup valencià de música folk\, Rascanya. 13 cançons que conviden ballar\, a deixar-se portar i a gaudir de l’univers creat per les músiques i les lletres de composició pròpia\, els acurats arranjaments i l’equilibrada selecció d’estils de ball. Un disc fet des de l’ànima\, inspirat per la remor de l’aigua que corre per les séquies. Rascanya és un grup valencià de musica folk que porta més de 10 anys\, de plaça en plaça\, fent ballar al públic. Quatre músics i un mestre de ball\, fan un espectacle dinàmic\, divertit i participatiu on el ball folk es converteix en un esdeveniment festiu de cohesió social. La filosofia de Rascanya és la de les coses fetes a poc a poc\, de manera artesanal\, parant atenció en els detalls que marquen l’herència rebuda\, per transformar-la en producció nova i actual\, arrelada en la tradició però lliure per transitar nous camins.
URL:https://octubre.cat/activitat/rascanya-presenten-auia/
LOCATION:Sala d’actes
CATEGORIES:Música
ATTACH;FMTTYPE=image/jpeg:https://octubre.cat/www/wp-content/uploads/2020/07/activitat3177.jpg
END:VEVENT
END:VCALENDAR