BEGIN:VCALENDAR
VERSION:2.0
PRODID:-//Octubre Centre de Cultura Contemporània - ECPv5.1.6//NONSGML v1.0//EN
CALSCALE:GREGORIAN
METHOD:PUBLISH
X-WR-CALNAME:Octubre Centre de Cultura Contemporània
X-ORIGINAL-URL:https://octubre.cat
X-WR-CALDESC:Events for Octubre Centre de Cultura Contemporània
BEGIN:VTIMEZONE
TZID:Europe/Andorra
BEGIN:DAYLIGHT
TZOFFSETFROM:+0100
TZOFFSETTO:+0200
TZNAME:CEST
DTSTART:20060326T010000
END:DAYLIGHT
BEGIN:STANDARD
TZOFFSETFROM:+0200
TZOFFSETTO:+0100
TZNAME:CET
DTSTART:20061029T010000
END:STANDARD
END:VTIMEZONE
BEGIN:VEVENT
DTSTART;TZID=Europe/Andorra:20061024T000000
DTEND;TZID=Europe/Andorra:20061114T000000
DTSTAMP:20260420T210051
CREATED:20200825T181125Z
LAST-MODIFIED:20200828T173815Z
UID:14367-1161648000-1163462400@octubre.cat
SUMMARY:Ramon Barnils: quin és el teu referent?
DESCRIPTION:Exposició sobre l’obra\, la vida i la personalitat del periodista Ramon Barnils (Sabadell\, Vallès Occidental\, 13 d’octubre de 1940 – Reus\, Baix Camp\, 14 de març de 2001)\, que va escriure i col·laborar a mitjans com Tele/eXpres\, El Noticiero Universal\, El Temps i La Vanguardia\, i a les agències de notícies Europa Press i Agència EFE. També va recuperar El be negre amb potes rosses\, va possibilitar Ajoblanco\, va dirigir Solidaridad Obrera i va participar a Catalunya Ràdio des de la seua fundació amb programes com El lloro\, el moro\, el mico i el senyor de Puerto Rico i El mínim esforç. \n \nEsposició organitzada amb la col·laboració del Grup de Periodistes Ramon Barnils.
URL:https://octubre.cat/activitat/ramon-barnils-quin-es-el-teu-referent/
LOCATION:Sala d’exposicions
CATEGORIES:Exposicions
ATTACH;FMTTYPE=image/jpeg:https://octubre.cat/www/wp-content/uploads/2020/08/0124513-ramon-barnils-6-web.jpg
END:VEVENT
END:VCALENDAR