BEGIN:VCALENDAR
VERSION:2.0
PRODID:-//Octubre Centre de Cultura Contemporània - ECPv5.1.6//NONSGML v1.0//EN
CALSCALE:GREGORIAN
METHOD:PUBLISH
X-WR-CALNAME:Octubre Centre de Cultura Contemporània
X-ORIGINAL-URL:https://octubre.cat
X-WR-CALDESC:Events for Octubre Centre de Cultura Contemporània
BEGIN:VTIMEZONE
TZID:Europe/Andorra
BEGIN:DAYLIGHT
TZOFFSETFROM:+0100
TZOFFSETTO:+0200
TZNAME:CEST
DTSTART:20100328T010000
END:DAYLIGHT
BEGIN:STANDARD
TZOFFSETFROM:+0200
TZOFFSETTO:+0100
TZNAME:CET
DTSTART:20101031T010000
END:STANDARD
END:VTIMEZONE
BEGIN:VEVENT
DTSTART;TZID=Europe/Andorra:20100514T200000
DTEND;TZID=Europe/Andorra:20100514T200000
DTSTAMP:20260420T104233
CREATED:20200729T164915Z
LAST-MODIFIED:20200730T042454Z
UID:8835-1273867200-1273867200@octubre.cat
SUMMARY:Rafa Xambó
DESCRIPTION:Divendres 14 de maig\, a les 20.00h: Rafa Xambó (València). Presentació del seu nou disc “Andanes”.   \n  \n  \n\nNascut a Algemesí\, va entrar en el món de la música allà pels 70\, dins del moviment de la Nova Cançó. Després de dècades de silenci musical\, va tornar amb un repertori nou i acompanyat per La Fusteria. A l’estiu de 2002 publicaren el seu primer disc 7 acústics (PM produccions)\, amb una gran acollida per part del públic i la crítica. El 2003\, veia la llum Dies oberts (Cambra Records) on combinava cançons més recents amb algunes dels 70\, algun homenatge i alguna versió. Vindria després Cançons de la memòria de trista (2006) produït per Albert Ortega i Rafa Xambó. Ara ens presenta el seu darrer treball Andanes\, també produït per Albert Ortega. Deu temes completament nous\, escrits a cavall de Glasgow i València. Diu la poetessa Isabel Garcia Canet\, que “Andanes són les arrels assaonades\, els boscos que ens arreceren en el camí de la vigília entre l’ahir i el demà”.
URL:https://octubre.cat/activitat/rafa-xambo/
LOCATION:No definit
CATEGORIES:Cicle de música pop
ATTACH;FMTTYPE=image/jpeg:https://octubre.cat/www/wp-content/uploads/2020/07/activitat1184.jpg
END:VEVENT
END:VCALENDAR