BEGIN:VCALENDAR
VERSION:2.0
PRODID:-//Octubre Centre de Cultura Contemporània - ECPv5.1.6//NONSGML v1.0//EN
CALSCALE:GREGORIAN
METHOD:PUBLISH
X-WR-CALNAME:Octubre Centre de Cultura Contemporània
X-ORIGINAL-URL:https://octubre.cat
X-WR-CALDESC:Events for Octubre Centre de Cultura Contemporània
BEGIN:VTIMEZONE
TZID:Europe/Andorra
BEGIN:DAYLIGHT
TZOFFSETFROM:+0100
TZOFFSETTO:+0200
TZNAME:CEST
DTSTART:20170326T010000
END:DAYLIGHT
BEGIN:STANDARD
TZOFFSETFROM:+0200
TZOFFSETTO:+0100
TZNAME:CET
DTSTART:20171029T010000
END:STANDARD
END:VTIMEZONE
BEGIN:VEVENT
DTSTART;TZID=Europe/Andorra:20171128T180000
DTEND;TZID=Europe/Andorra:20171128T180000
DTSTAMP:20260422T040710
CREATED:20200729T190210Z
LAST-MODIFIED:20200729T190210Z
UID:13276-1511892000-1511892000@octubre.cat
SUMMARY:Quina Universitat necessitem?
DESCRIPTION:Dimarts 28 de novembre a les 18.00h. Organitzat per l’Institut INGENIO (CSIC – Universitat Politècnica de València).  \n  \n  \n\n El rol de la formació superior per a desenvolupar competències per a construïr nous models de producció i consum des dels col·lectius socials.  ¿Quines capacitats necessitem per a transformar els actuals models de producció i consum des de la ciutadania\, per tal de construir societats més justes i sostenibles? ¿Com es podem desenvolupar este capacitats en l’àmbit universitari?  En esta jornada –i a partir de les reflexions de persones vinculades a col·lectius socials que estan construint alternatives de producció i consum en àmbits diversos (alimentació\, energia\, banca…)–\, debatrem sobre el rol que deuria tindre la formació universitària per a generar capacitats que faciliten l’emergència i l’aprofundiment en estes pràctiques transformadores.  Organitzat per l’Institut INGENIO (CSIC – Universitat Politècnica de València)\, amb el recolzament del projecte Erasmus + Students for Change.
URL:https://octubre.cat/activitat/quina-universitat-necessitem/
LOCATION:Sala d’actes
CATEGORIES:Conferències i congressos
ATTACH;FMTTYPE=image/jpeg:https://octubre.cat/www/wp-content/uploads/2020/07/activitat2916.jpg
END:VEVENT
END:VCALENDAR