BEGIN:VCALENDAR
VERSION:2.0
PRODID:-//Octubre Centre de Cultura Contemporània - ECPv5.1.6//NONSGML v1.0//EN
CALSCALE:GREGORIAN
METHOD:PUBLISH
X-WR-CALNAME:Octubre Centre de Cultura Contemporània
X-ORIGINAL-URL:https://octubre.cat
X-WR-CALDESC:Events for Octubre Centre de Cultura Contemporània
BEGIN:VTIMEZONE
TZID:Europe/Andorra
BEGIN:DAYLIGHT
TZOFFSETFROM:+0100
TZOFFSETTO:+0200
TZNAME:CEST
DTSTART:20100328T010000
END:DAYLIGHT
BEGIN:STANDARD
TZOFFSETFROM:+0200
TZOFFSETTO:+0100
TZNAME:CET
DTSTART:20101031T010000
END:STANDARD
END:VTIMEZONE
BEGIN:VEVENT
DTSTART;TZID=Europe/Andorra:20100126T193000
DTEND;TZID=Europe/Andorra:20100126T193000
DTSTAMP:20260420T192731
CREATED:20200729T164709Z
LAST-MODIFIED:20200729T182746Z
UID:8708-1264534200-1264534200@octubre.cat
SUMMARY:Quin és el repte després de Copenhague?
DESCRIPTION:Dimarts 26 de gener\, a les 19.30h: Taula rodona organitzada per Intermón Oxfam.   \n  \n  \n\nTaula rodona Quin és el repte després de Copenhague?   Amb la participació de:  Arantxa Guereña (Intermón Oxfam) José Albelda (Greenpeace) Dr. Ernest Garcia (Universitat de València)   Modera: Maria Josep Picó\, periodista especialitzada en temes mediambientals.   Organitza: Intermón Oxfam.   Entrada lliure.
URL:https://octubre.cat/activitat/quin-es-el-repte-despres-de-copenhague/
LOCATION:No definit
CATEGORIES:Literatura
ATTACH;FMTTYPE=image/jpeg:https://octubre.cat/www/wp-content/uploads/2020/07/activitat1052.jpg
END:VEVENT
END:VCALENDAR