BEGIN:VCALENDAR
VERSION:2.0
PRODID:-//Octubre Centre de Cultura Contemporània - ECPv5.1.6//NONSGML v1.0//EN
CALSCALE:GREGORIAN
METHOD:PUBLISH
X-WR-CALNAME:Octubre Centre de Cultura Contemporània
X-ORIGINAL-URL:https://octubre.cat
X-WR-CALDESC:Events for Octubre Centre de Cultura Contemporània
BEGIN:VTIMEZONE
TZID:Europe/Andorra
BEGIN:DAYLIGHT
TZOFFSETFROM:+0100
TZOFFSETTO:+0200
TZNAME:CEST
DTSTART:20130331T010000
END:DAYLIGHT
BEGIN:STANDARD
TZOFFSETFROM:+0200
TZOFFSETTO:+0100
TZNAME:CET
DTSTART:20131027T010000
END:STANDARD
END:VTIMEZONE
BEGIN:VEVENT
DTSTART;TZID=Europe/Andorra:20131212T190000
DTEND;TZID=Europe/Andorra:20131212T190000
DTSTAMP:20260423T031642
CREATED:20200729T170250Z
LAST-MODIFIED:20200729T184308Z
UID:9661-1386874800-1386874800@octubre.cat
SUMMARY:'Qui és pobre avui en dia?'
DESCRIPTION:Dijous 12 de desembre a les 19.00h. Taula rodona sobre la pobresa al País Valencià organitzada per la sectorial de Benestar Social de Compromís  \n  \n  \n\n Taula rodona sobre la pobresa al País Valencià   Intervindran representants de    – Xarxa Pobresa València EAPN: Sonia Márquez (“Tendències en els últims dos anys”) – Confederació Gonzalo Anaya: María Dolores Tirado (“Pobresa en l’àmbit de l’educació”) – Sectorial de Benestar Social de Compromís: Daniel Rodríguez Bacete (“Renda Bàsica\, ferramenta de lluita”) -Compromís : Juan Ponce\, diputat a les Corts Valencianes (Els Verds)  Moderadora: Pilar Sifre   Organitzat per la sectorial del Benestar Social de Compromís
URL:https://octubre.cat/activitat/qui-es-pobre-avui-en-dia/
LOCATION:Sala d’actes
CATEGORIES:Conferències i congressos
ATTACH;FMTTYPE=image/jpeg:https://octubre.cat/www/wp-content/uploads/2020/07/activitat1951.jpg
END:VEVENT
END:VCALENDAR